BEGIN:VCALENDAR
VERSION:2.0
PRODID:-//Clube de Engenharia - ECPv6.15.16//NONSGML v1.0//EN
CALSCALE:GREGORIAN
METHOD:PUBLISH
X-WR-CALNAME:Clube de Engenharia
X-ORIGINAL-URL:https://portalclubedeengenharia.org.br
X-WR-CALDESC:Eventos para Clube de Engenharia
REFRESH-INTERVAL;VALUE=DURATION:PT1H
X-Robots-Tag:noindex
X-PUBLISHED-TTL:PT1H
BEGIN:VTIMEZONE
TZID:America/Sao_Paulo
BEGIN:STANDARD
TZOFFSETFROM:-0200
TZOFFSETTO:-0300
TZNAME:-03
DTSTART:20150222T020000
END:STANDARD
BEGIN:DAYLIGHT
TZOFFSETFROM:-0300
TZOFFSETTO:-0200
TZNAME:-02
DTSTART:20151018T030000
END:DAYLIGHT
BEGIN:STANDARD
TZOFFSETFROM:-0200
TZOFFSETTO:-0300
TZNAME:-03
DTSTART:20160221T020000
END:STANDARD
BEGIN:DAYLIGHT
TZOFFSETFROM:-0300
TZOFFSETTO:-0200
TZNAME:-02
DTSTART:20161016T030000
END:DAYLIGHT
BEGIN:STANDARD
TZOFFSETFROM:-0200
TZOFFSETTO:-0300
TZNAME:-03
DTSTART:20170219T020000
END:STANDARD
BEGIN:DAYLIGHT
TZOFFSETFROM:-0300
TZOFFSETTO:-0200
TZNAME:-02
DTSTART:20171015T030000
END:DAYLIGHT
END:VTIMEZONE
BEGIN:VEVENT
DTSTART;TZID=America/Sao_Paulo:20161117T180000
DTEND;TZID=America/Sao_Paulo:20161117T200000
DTSTAMP:20260425T214225
CREATED:20160921T224500Z
LAST-MODIFIED:20240712T152156Z
UID:25974-1479405600-1479412800@portalclubedeengenharia.org.br
SUMMARY:Investimento e avaliação
DESCRIPTION:Palestrante:Marcelo Henriques de BritoDoutorado em Engenharia Química pela Ècole Polytechnique Fedérale de Lausanne\, Engenheiro\, Administrador\, Conselheiro da Associação Comercial RJ\, Conselheiro Apimec-Rio e Professor IBMEC-RJ \nObjetivo:Apresentar os principais fundamentos na elaboração e para análise de demonstrativos financeiros em acordo com as normas CPC / IFRS com foco em decisões de investimentos\, seja como credor\, seja como acionista\, especialmente em empresas de capital aberto\, porém mencionando também empresas de menor porte. Haverá menções a situações reais e documentos públicos divulgados em sites da CVM e de relações com investidores. \nPromoção:Diretoria de Atividades Técnicas – DATDiretoria de Engenharia Econômica – DEC \nApoio:Associação Brasileira de Engenheiras e Arquitetas do Rio de Janeiro – ABEA-RJ \nServiço:Dia 17/11 às 18h22º andar do Clube de Engenharia Av. Rio Branco\, 124 – Metrô Estação Carioca
URL:https://portalclubedeengenharia.org.br/evento/investimento-e-avaliacao/
ATTACH;FMTTYPE=image/jpeg:https://portalclubedeengenharia.org.br/wp-content/uploads/2024/07/1478277876.jpg
END:VEVENT
END:VCALENDAR