BEGIN:VCALENDAR
VERSION:2.0
PRODID:-//Clube de Engenharia - ECPv6.15.16//NONSGML v1.0//EN
CALSCALE:GREGORIAN
METHOD:PUBLISH
X-WR-CALNAME:Clube de Engenharia
X-ORIGINAL-URL:https://portalclubedeengenharia.org.br
X-WR-CALDESC:Eventos para Clube de Engenharia
REFRESH-INTERVAL;VALUE=DURATION:PT1H
X-Robots-Tag:noindex
X-PUBLISHED-TTL:PT1H
BEGIN:VTIMEZONE
TZID:America/Sao_Paulo
BEGIN:STANDARD
TZOFFSETFROM:-0200
TZOFFSETTO:-0300
TZNAME:-03
DTSTART:20140216T020000
END:STANDARD
BEGIN:DAYLIGHT
TZOFFSETFROM:-0300
TZOFFSETTO:-0200
TZNAME:-02
DTSTART:20141019T030000
END:DAYLIGHT
BEGIN:STANDARD
TZOFFSETFROM:-0200
TZOFFSETTO:-0300
TZNAME:-03
DTSTART:20150222T020000
END:STANDARD
BEGIN:DAYLIGHT
TZOFFSETFROM:-0300
TZOFFSETTO:-0200
TZNAME:-02
DTSTART:20151018T030000
END:DAYLIGHT
BEGIN:STANDARD
TZOFFSETFROM:-0200
TZOFFSETTO:-0300
TZNAME:-03
DTSTART:20160221T020000
END:STANDARD
BEGIN:DAYLIGHT
TZOFFSETFROM:-0300
TZOFFSETTO:-0200
TZNAME:-02
DTSTART:20161016T030000
END:DAYLIGHT
END:VTIMEZONE
BEGIN:VEVENT
DTSTART;TZID=America/Sao_Paulo:20150908T190000
DTEND;TZID=America/Sao_Paulo:20150910T180000
DTSTAMP:20260424T032748
CREATED:20150716T180000Z
LAST-MODIFIED:20240712T152032Z
UID:25628-1441738800-1441908000@portalclubedeengenharia.org.br
SUMMARY:IV Congresso Internacional na "Recuperação\, Manutenção e Restauração de Edifícios" (CIRMARE 2015)
DESCRIPTION:O CIRMARE é um evento quinquenal e tem como objetivo promover a cooperação e difundir o conhecimento dos processos de planejamento e gerenciamento na recuperação de edifícios e de suas benfeitorias\, destacando-se: técnicas de “retrofit”\, avaliação de mudanças de uso e reabilitação nos bens urbanos. \nAssim\, através de palestras e mesas redondas\, o congresso permitirá uma abordagem multidisciplinar das modernas técnicas construtivas e promoverá uma oportunidade única para troca de informações entre os profissionais\, pesquisadores\, docentes e discentes das áreas de recuperação\, manutenção e restauração dos bens edificados. \nMAIS INFORMAÇÕES: http://nppg.org.br/cirmare/  \n  \n   \n\n\n\nTerça 08/09/2015\n\n\nX Semana de Engenharia Civil\n\n\n7:00 às 9:00\n\nCREDENCIAMENTO\n\n\n\n9:00 às 10:30 \n  \n\n\n\nABERTURA: AUDITÓRIO HORTA BARBOSA \n–       Reitor da UFRJ \n–       Presidente do CREA \n–       Diretor da Escola Politécnica \n–       Coordenadores da Semana de Engenharia \n–       Coordenador do CIRMARE 2015 \n\n\n\n\n10:30 às 11:00\n\nCOFFE-BREAK\n\n\n\n\n\nCIRMARE 2015 \nRecuperação – Retrofit \n\n\n\n\n10:30 às 11:30\n\nAPRESENTAÇÃO DE TRABALHOS (pôsteres)\n\n\n\n11:30 às 13:00\n\nINTERVALO PARA ALMOÇO\n\n\n\n13:00 às 14:30\n\nAPRESENTAÇÃO DE TRABALHOS (oral)\n\n\n\n\n14:30 às 15:30 \n45 min – apresentação \n10min – perguntas \n\n\nPALESTRA \nProf. Eduardo Qualharini – Poli/UFRJ \n\n\n\n15:30 às 15:50\n\nCOFFE-BREAK\n\n\n\n\n16:00 às 16:55 \n45 min – apresentação \n10min – perguntas \n\n\nPALESTRA \nProf. João Lanzinha – UBI/Portugal \n\n\n\n\n17:00 às 17:55 \n45 min – apresentação \n10min – perguntas \n\n\nPALESTRA \nProf. Vasco Peixoto de Freitas – FEUP/Portugal \n\n\n\n\n  \n  \n  \n\n\n\nQuarta 09/09/2015\n\n\nX Semana de Engenharia Civil\n\n\n  \n  \n7:00 às 14:00\n\n\n–       Palestra de Ênfase \n–       Palestra Principal \n–       Palestra Patrocinio \n\n\n\n\n\n\nCIRMARE 2015 \nManutenção – Patologias Construtivas \n\n\n\n\n10:30 às 11:30\n\n\nAPRESENTAÇÃO DE TRABALHOS (pôsteres) \n\n\n\n\n11:30 às 13:00\n\n\nINTERVALO PARA ALMOÇO \n\n\n\n\n13:00 às 14:30\n\nAPRESENTAÇÃO DE TRABALHOS (oral)\n\n\n\n\n14:30 às 15:30 \n45 min – apresentação \n10min – perguntas \n\n\nPolíticas e práticas de reabilitação urbana em Portugal \nProf.ª Ana Pinho – UCP/Portugal \n\n\n\n15:30 às 15:50\n\nCOFFE-BREAK\n\n\n\n\n16:00 às 16:55 \n45 min – apresentação \n10min – perguntas \n\n\nRevitalização de revestimentos em construções históricas e antigas \nProf. Walmor Prudêncio – ProArq/UFRJ \n\n\n\n\n17:00 às 17:55\n\n\nMESA REDONDA\n\n\n\n\n    \n \n  \n  \n  \n\n\n\nQuinta 10/09/2015\n\n\nX Semana de Engenharia Civil\n\n\n 7:00 às 14:00\n\n\n–       Palestra de Ênfase \n–       Palestra Principal \n–       Palestra Patrocinio \n\n\n\n\n\n\nCIRMARE 2015 \nRestauração – Preservação do Espaço Edificado \n\n\n\n\n10:30 às 11:30\n\nAPRESENTAÇÃO DE TRABALHOS (pôsteres)\n\n\n\n11:30 às 13:00\n\nINTERVALO PARA ALMOÇO\n\n\n\n13:00 às 14:30\n\nAPRESENTAÇÃO DE TRABALHOS (oral)\n\n\n\n\n14:30 às 15:30 \n45 min – apresentação \n10min – perguntas \n\n\nIntervenção em ruínas: Uma forma de prevenção do patrimônio \nProf.ª Rosina Trevisan – ProArq/UFRJ \n\n\n\n15:30 às 15:50\n\nCOFFE-BREAK\n\n\n\n\n16:00 às 16:55 \n45 min – apresentação \n10min – perguntas \n\n\nPALESTRA \nProf. Nelson Pôrto – UFES    \n\n\n\n\n17:00 às 17:55\n\n\nMESA REDONDA\n\n\n\n\n  \n  \n  \n\n\n\nSexta 11/09/2015\n\n\n 7:00 às 18:00\n\nX Semana de Engenharia Civil\n\n\n\n\n  \n 
URL:https://portalclubedeengenharia.org.br/evento/iv-congresso-internacional-na-recuperacao-manutencao-e-restauracao-de-edificios-cirmare-2015/
END:VEVENT
END:VCALENDAR