BEGIN:VCALENDAR
VERSION:2.0
PRODID:-//Clube de Engenharia - ECPv6.15.16//NONSGML v1.0//EN
CALSCALE:GREGORIAN
METHOD:PUBLISH
X-WR-CALNAME:Clube de Engenharia
X-ORIGINAL-URL:https://portalclubedeengenharia.org.br
X-WR-CALDESC:Eventos para Clube de Engenharia
REFRESH-INTERVAL;VALUE=DURATION:PT1H
X-Robots-Tag:noindex
X-PUBLISHED-TTL:PT1H
BEGIN:VTIMEZONE
TZID:America/Sao_Paulo
BEGIN:STANDARD
TZOFFSETFROM:-0200
TZOFFSETTO:-0300
TZNAME:-03
DTSTART:20140216T020000
END:STANDARD
BEGIN:DAYLIGHT
TZOFFSETFROM:-0300
TZOFFSETTO:-0200
TZNAME:-02
DTSTART:20141019T030000
END:DAYLIGHT
BEGIN:STANDARD
TZOFFSETFROM:-0200
TZOFFSETTO:-0300
TZNAME:-03
DTSTART:20150222T020000
END:STANDARD
BEGIN:DAYLIGHT
TZOFFSETFROM:-0300
TZOFFSETTO:-0200
TZNAME:-02
DTSTART:20151018T030000
END:DAYLIGHT
BEGIN:STANDARD
TZOFFSETFROM:-0200
TZOFFSETTO:-0300
TZNAME:-03
DTSTART:20160221T020000
END:STANDARD
BEGIN:DAYLIGHT
TZOFFSETFROM:-0300
TZOFFSETTO:-0200
TZNAME:-02
DTSTART:20161016T030000
END:DAYLIGHT
END:VTIMEZONE
BEGIN:VEVENT
DTSTART;TZID=America/Sao_Paulo:20150325T190000
DTEND;TZID=America/Sao_Paulo:20150325T190000
DTSTAMP:20260419T152642
CREATED:20150323T173000Z
LAST-MODIFIED:20240712T152015Z
UID:25568-1427310000-1427310000@portalclubedeengenharia.org.br
SUMMARY:Lançamento do livro O Rio que é azul
DESCRIPTION:Autor: Paulo Canedo\, professor da Coppe/UFRJ e Regina Mamede\, Regina Mamede \nData: 25 de março de 2015Horário: 19h Local: Livraria da TravessaEndereço: rua Visconde de Pirajá\, 572\, Ipanema – Rio de Janeiro
URL:https://portalclubedeengenharia.org.br/evento/lancamento-do-livro-%c2%93o-rio-que-e-azul%c2%94/
END:VEVENT
END:VCALENDAR