BEGIN:VCALENDAR
VERSION:2.0
PRODID:-//Clube de Engenharia - ECPv6.15.16//NONSGML v1.0//EN
CALSCALE:GREGORIAN
METHOD:PUBLISH
X-WR-CALNAME:Clube de Engenharia
X-ORIGINAL-URL:https://portalclubedeengenharia.org.br
X-WR-CALDESC:Eventos para Clube de Engenharia
REFRESH-INTERVAL;VALUE=DURATION:PT1H
X-Robots-Tag:noindex
X-PUBLISHED-TTL:PT1H
BEGIN:VTIMEZONE
TZID:America/Sao_Paulo
BEGIN:STANDARD
TZOFFSETFROM:-0200
TZOFFSETTO:-0300
TZNAME:-03
DTSTART:20160221T020000
END:STANDARD
BEGIN:DAYLIGHT
TZOFFSETFROM:-0300
TZOFFSETTO:-0200
TZNAME:-02
DTSTART:20161016T030000
END:DAYLIGHT
BEGIN:STANDARD
TZOFFSETFROM:-0200
TZOFFSETTO:-0300
TZNAME:-03
DTSTART:20170219T020000
END:STANDARD
BEGIN:DAYLIGHT
TZOFFSETFROM:-0300
TZOFFSETTO:-0200
TZNAME:-02
DTSTART:20171015T030000
END:DAYLIGHT
BEGIN:STANDARD
TZOFFSETFROM:-0200
TZOFFSETTO:-0300
TZNAME:-03
DTSTART:20180218T020000
END:STANDARD
BEGIN:DAYLIGHT
TZOFFSETFROM:-0300
TZOFFSETTO:-0200
TZNAME:-02
DTSTART:20181104T030000
END:DAYLIGHT
END:VTIMEZONE
BEGIN:VEVENT
DTSTART;TZID=America/Sao_Paulo:20170622T160000
DTEND;TZID=America/Sao_Paulo:20170622T180000
DTSTAMP:20260424T211154
CREATED:20170616T234400Z
LAST-MODIFIED:20240712T152258Z
UID:26263-1498147200-1498154400@portalclubedeengenharia.org.br
SUMMARY:Lançamento do livro Brasil 2035 no Museu do Amanhã
DESCRIPTION:A Associação Nacional dos Servidores da Carreira de Planejamento e Orçamento (Assecor) e o Instituto de Pesquisa Econômica Aplicada (Ipea) convidam a diretoria e associados do Clube de Engenharia para o lançamento do livro Brasil 2035\, que acontecerá no Museu do Amanhã\, no Rio de Janeiro\, no dia 22 de junho\, a partir das 16 horas. Na ocasião\, os presentes receberão gratuitamente exemplares do livro e poderão participar de debates sobre os rumos do Brasil à luz de cenários elaborados com a colaboração de cerca de 880 especialistas da academia\, da sociedade civil e da administração pública. Coordenada pela Assecor e o Ipea\, a iniciativa contou com o apoio de instituições como CGEE\, Embrapa\, BNDES\, Petrobras\, Fiocruz e Previ. \nSegundo informam os organizadores\, em um breve resumo sobre o trabalho\, “no cenário Construção as agendas social e econômica convergem\, estabelecendo os alicerces para o surgimento de uma sociedade mais inclusiva\, dinâmica e inovadora. No cenário Novo Pacto Social prevalece o enfrentamento da dívida social\, sem que se consiga estimular o dinamismo econômico e a geração de emprego e renda. No cenário Crescer é o Lema ocorre o oposto: o foco é o crescimento econômico\, sem maiores preocupações com inclusão social. Já o cenário Vai Levando desponta como mais pessimista\, prevalecendo a fragmentação social e a cultura curto-prazista\, resultando em um quadro de retrocesso social e manutenção da economia tradicional primário-exportadora”.  \n Mais informações e acesso à publicação\, disponível para download: www.brasil2100.com.br e  www.facebook.com/Brasil2035. \nDia: Quinta-feira\, 22 de junho de 2017 Hora: 16 horas \nLocal: Museu do Amanhã\, Praça Mauá\, 1 – Centro\, Rio de Janeiro \n 
URL:https://portalclubedeengenharia.org.br/evento/lancamento-do-livro-brasil-2035-no-museu-do-amanha/
END:VEVENT
END:VCALENDAR