BEGIN:VCALENDAR
VERSION:2.0
PRODID:-//Clube de Engenharia - ECPv6.15.16//NONSGML v1.0//EN
CALSCALE:GREGORIAN
METHOD:PUBLISH
X-WR-CALNAME:Clube de Engenharia
X-ORIGINAL-URL:https://portalclubedeengenharia.org.br
X-WR-CALDESC:Eventos para Clube de Engenharia
REFRESH-INTERVAL;VALUE=DURATION:PT1H
X-Robots-Tag:noindex
X-PUBLISHED-TTL:PT1H
BEGIN:VTIMEZONE
TZID:America/Sao_Paulo
BEGIN:STANDARD
TZOFFSETFROM:-0200
TZOFFSETTO:-0300
TZNAME:-03
DTSTART:20160221T020000
END:STANDARD
BEGIN:DAYLIGHT
TZOFFSETFROM:-0300
TZOFFSETTO:-0200
TZNAME:-02
DTSTART:20161016T030000
END:DAYLIGHT
BEGIN:STANDARD
TZOFFSETFROM:-0200
TZOFFSETTO:-0300
TZNAME:-03
DTSTART:20170219T020000
END:STANDARD
BEGIN:DAYLIGHT
TZOFFSETFROM:-0300
TZOFFSETTO:-0200
TZNAME:-02
DTSTART:20171015T030000
END:DAYLIGHT
BEGIN:STANDARD
TZOFFSETFROM:-0200
TZOFFSETTO:-0300
TZNAME:-03
DTSTART:20180218T020000
END:STANDARD
BEGIN:DAYLIGHT
TZOFFSETFROM:-0300
TZOFFSETTO:-0200
TZNAME:-02
DTSTART:20181104T030000
END:DAYLIGHT
END:VTIMEZONE
BEGIN:VEVENT
DTSTART;TZID=America/Sao_Paulo:20171009T160000
DTEND;TZID=America/Sao_Paulo:20171009T180000
DTSTAMP:20260421T010313
CREATED:20171005T224900Z
LAST-MODIFIED:20240712T152329Z
UID:26406-1507564800-1507572000@portalclubedeengenharia.org.br
SUMMARY:Lançamento do livro "Entre a Aspidistra e o Artocarpus"
DESCRIPTION:No dia 09 de outubro\, o conselheiro Olavo Cabral Ramos Filho lançará seu livro “Entre a Aspidistra e o Artocarpus” no Clube de Engenharia\, às 16h\, no 22º andar.  \nA entrada é livre\, todos os associados estão convidados para o lançamento da obra. \nPromoção:Diretoria de Atividades Culturais  \nServiço:Dia 09/10 às 16h22º andar do Clube de EngenhariaAv. Rio Branco\, 124 – Metrô Estação Carioca
URL:https://portalclubedeengenharia.org.br/evento/lancamento-do-livro-entre-a-aspidistra-e-o-artocarpus/
ATTACH;FMTTYPE=image/jpeg:https://portalclubedeengenharia.org.br/wp-content/uploads/2024/07/1507233034.jpg
END:VEVENT
END:VCALENDAR