BEGIN:VCALENDAR
VERSION:2.0
PRODID:-//Clube de Engenharia - ECPv6.15.16//NONSGML v1.0//EN
CALSCALE:GREGORIAN
METHOD:PUBLISH
X-WR-CALNAME:Clube de Engenharia
X-ORIGINAL-URL:https://portalclubedeengenharia.org.br
X-WR-CALDESC:Eventos para Clube de Engenharia
REFRESH-INTERVAL;VALUE=DURATION:PT1H
X-Robots-Tag:noindex
X-PUBLISHED-TTL:PT1H
BEGIN:VTIMEZONE
TZID:America/Sao_Paulo
BEGIN:STANDARD
TZOFFSETFROM:-0200
TZOFFSETTO:-0300
TZNAME:-03
DTSTART:20160221T020000
END:STANDARD
BEGIN:DAYLIGHT
TZOFFSETFROM:-0300
TZOFFSETTO:-0200
TZNAME:-02
DTSTART:20161016T030000
END:DAYLIGHT
BEGIN:STANDARD
TZOFFSETFROM:-0200
TZOFFSETTO:-0300
TZNAME:-03
DTSTART:20170219T020000
END:STANDARD
BEGIN:DAYLIGHT
TZOFFSETFROM:-0300
TZOFFSETTO:-0200
TZNAME:-02
DTSTART:20171015T030000
END:DAYLIGHT
BEGIN:STANDARD
TZOFFSETFROM:-0200
TZOFFSETTO:-0300
TZNAME:-03
DTSTART:20180218T020000
END:STANDARD
BEGIN:DAYLIGHT
TZOFFSETFROM:-0300
TZOFFSETTO:-0200
TZNAME:-02
DTSTART:20181104T030000
END:DAYLIGHT
END:VTIMEZONE
BEGIN:VEVENT
DTSTART;TZID=America/Sao_Paulo:20170627T170000
DTEND;TZID=America/Sao_Paulo:20170627T200000
DTSTAMP:20260425T080303
CREATED:20170615T013100Z
LAST-MODIFIED:20240712T152257Z
UID:26261-1498582800-1498593600@portalclubedeengenharia.org.br
SUMMARY:Lançamento do livro Trajetória histórico-social da Engenharia Brasileira
DESCRIPTION:O conselheiro Edson Monteiro lança em 27 de junho\, das 17h Às 20h\, o livro Trajetória histórico-social da Engenharia Brasileira\, pela Letra Capital Editora. O Tomo I – Dos primórdios coloniais ao quase-final do Século XIX é uma crítica histórico-social da engenharia brasileira\, destacando a sua essencialidade como ferramenta de desenvolvimento e consolidação da soberania nacional. Além da sessão de autógrafos\, o autor fará palestra sobre a obra.  \nPromoção: Diretoria de Atividades Culturais e Cívicas 
URL:https://portalclubedeengenharia.org.br/evento/lancamento-do-livro-trajetoria-historico-social-da-engenharia-brasileira/
ATTACH;FMTTYPE=image/jpeg:https://portalclubedeengenharia.org.br/wp-content/uploads/2024/07/1498077321.jpg
END:VEVENT
END:VCALENDAR