BEGIN:VCALENDAR
VERSION:2.0
PRODID:-//Clube de Engenharia - ECPv6.15.16//NONSGML v1.0//EN
CALSCALE:GREGORIAN
METHOD:PUBLISH
X-WR-CALNAME:Clube de Engenharia
X-ORIGINAL-URL:https://portalclubedeengenharia.org.br
X-WR-CALDESC:Eventos para Clube de Engenharia
REFRESH-INTERVAL;VALUE=DURATION:PT1H
X-Robots-Tag:noindex
X-PUBLISHED-TTL:PT1H
BEGIN:VTIMEZONE
TZID:America/Sao_Paulo
BEGIN:STANDARD
TZOFFSETFROM:-0200
TZOFFSETTO:-0300
TZNAME:-03
DTSTART:20150222T020000
END:STANDARD
BEGIN:DAYLIGHT
TZOFFSETFROM:-0300
TZOFFSETTO:-0200
TZNAME:-02
DTSTART:20151018T030000
END:DAYLIGHT
BEGIN:STANDARD
TZOFFSETFROM:-0200
TZOFFSETTO:-0300
TZNAME:-03
DTSTART:20160221T020000
END:STANDARD
BEGIN:DAYLIGHT
TZOFFSETFROM:-0300
TZOFFSETTO:-0200
TZNAME:-02
DTSTART:20161016T030000
END:DAYLIGHT
BEGIN:STANDARD
TZOFFSETFROM:-0200
TZOFFSETTO:-0300
TZNAME:-03
DTSTART:20170219T020000
END:STANDARD
BEGIN:DAYLIGHT
TZOFFSETFROM:-0300
TZOFFSETTO:-0200
TZNAME:-02
DTSTART:20171015T030000
END:DAYLIGHT
END:VTIMEZONE
BEGIN:VEVENT
DTSTART;TZID=America/Sao_Paulo:20161207T183000
DTEND;TZID=America/Sao_Paulo:20161207T210000
DTSTAMP:20260425T233208
CREATED:20161205T210300Z
LAST-MODIFIED:20240712T152212Z
UID:26045-1481135400-1481144400@portalclubedeengenharia.org.br
SUMMARY:Lançamento: Gás Natural no Brasil - Uma história de muitos erros e poucos acertos
DESCRIPTION:Lançamento: Gás Natural no Brasil – Uma história de muitos erros e poucos acertos \nA história do serviço de distribuição de gás canalizado no Brasil\, e particularmente no Rio de Janeiro\, com seus avanços e obstáculos de diversas naturezas\, encontram-se agora relatados no livro “Gás Natural no Brasil – Uma história de muitos erros e poucos acertos”\, de Antônio Gerson Ferreira de Carvalho. O engenheiro com 35 anos de experiência no setor\, e atual secretário da Divisão Técnica de Energia (DEN) do Clube de Engenharia\, lança sua obra na próxima quarta-feira\, 07 de dezembro\, às 18h30 na Câmara Municipal do Rio de Janeiro. \nMunido de documentos\, matérias de jornais e revistas\, participação em debates e da sua própria história\, o autor se utiliza da ordem cronológica para apresentar os detalhes da distribuição de gás\, suas contradições e disputas políticas\, as irregularidades no processo de privatização\, erros das autoridades responsáveis e os prejuízos para o desenvolvimento da utilização do gás natural no País. No entanto\, compromete-se a não perder fé na área:   “Não tenho dúvidas de que o setor deve continuar sua trajetória de crescimento\, diante das auspiciosas informações sobre as reservas de petróleo e gás natural descobertas na área do pré-sal\, esperando que siga de forma menos errática e em benefício da maioria da população brasileira” \nO livro é uma publicação do Sindicato dos Engenheiros no Estado do Rio de Janeiro (SENGE-RJ) e conta com prefácio de Sérgio Barbosa de Almeida\, engenheiro civil\, ex-presidente do SENGE-RJ e ex-chefe do Departamento de Meio Ambiente da Eletrobrás\, em análise sucinta e objetiva dos principais temas do livro.  \nCom a atualidade dos debates acerca do pré-sal\, poder estrangeiro\, importância da Petrobras e soberania nacional\, Gerson Ferreira\, que é ex-presidente do SENGE-RJ e da Associação de Profissionais de Nível Superior da Companhia Estadual de Gás (Aprogás)\, atual CeG\, afirma\, com tal obra\, seu compromisso com o interesse público. Seu trabalho homenageia os protagonistas da história relatada\, profissionais com os quais teve a honra de conviver e que puderam ir além dos obstáculos e promover o desenvolvimento da distribuição canalizada de gás\, além de preservar\, até onde foi possível\, a memória de suas empresas e do setor. \nServiço:Dia 07/12 às 18h30Salão Nobre da Câmara Municipal do Rio de Janeiro\, Palácio Pedro Ernesto Praça Floriano (Cinelândia)\, sem número
URL:https://portalclubedeengenharia.org.br/evento/lancamento-gas-natural-no-brasil-uma-historia-de-muitos-erros-e-poucos-acertos/
ATTACH;FMTTYPE=image/png:https://portalclubedeengenharia.org.br/wp-content/uploads/2024/07/1480964806.png
END:VEVENT
END:VCALENDAR