BEGIN:VCALENDAR
VERSION:2.0
PRODID:-//Clube de Engenharia - ECPv6.15.16//NONSGML v1.0//EN
CALSCALE:GREGORIAN
METHOD:PUBLISH
X-WR-CALNAME:Clube de Engenharia
X-ORIGINAL-URL:https://portalclubedeengenharia.org.br
X-WR-CALDESC:Eventos para Clube de Engenharia
REFRESH-INTERVAL;VALUE=DURATION:PT1H
X-Robots-Tag:noindex
X-PUBLISHED-TTL:PT1H
BEGIN:VTIMEZONE
TZID:America/Sao_Paulo
BEGIN:STANDARD
TZOFFSETFROM:-0200
TZOFFSETTO:-0300
TZNAME:-03
DTSTART:20140216T020000
END:STANDARD
BEGIN:DAYLIGHT
TZOFFSETFROM:-0300
TZOFFSETTO:-0200
TZNAME:-02
DTSTART:20141019T030000
END:DAYLIGHT
BEGIN:STANDARD
TZOFFSETFROM:-0200
TZOFFSETTO:-0300
TZNAME:-03
DTSTART:20150222T020000
END:STANDARD
BEGIN:DAYLIGHT
TZOFFSETFROM:-0300
TZOFFSETTO:-0200
TZNAME:-02
DTSTART:20151018T030000
END:DAYLIGHT
BEGIN:STANDARD
TZOFFSETFROM:-0200
TZOFFSETTO:-0300
TZNAME:-03
DTSTART:20160221T020000
END:STANDARD
BEGIN:DAYLIGHT
TZOFFSETFROM:-0300
TZOFFSETTO:-0200
TZNAME:-02
DTSTART:20161016T030000
END:DAYLIGHT
END:VTIMEZONE
BEGIN:VEVENT
DTSTART;TZID=America/Sao_Paulo:20150602T190000
DTEND;TZID=America/Sao_Paulo:20150602T190000
DTSTAMP:20260419T174627
CREATED:20150601T192300Z
LAST-MODIFIED:20240712T152027Z
UID:25606-1433271600-1433271600@portalclubedeengenharia.org.br
SUMMARY:Missa de 7º dia Aury Sampaio
DESCRIPTION:Mais uma vez\, o Clube de Engenharia expressa seu grande pesar de comunicar aos sócios e conselheiros o falecimento\, no dia 28/05/15\, do Ex-Diretor e Conselheiro Vitalício Engenheiro AURY SAMPAIO e lembra a imensa saudade deixada por ele. \nCom extremo pesar oferecemos aos familiares nossas condolências\, bem como nossos mais estimados préstimos. Informamos que a família enlutada\, convida parentes e amigos para a Missa de Sétimo Dia\, que será celebrada amanhã 02 de junho às 19 horas\, na Igreja São José – Av. Borges de Medeiros\, 2.735 – Lagoa \n 
URL:https://portalclubedeengenharia.org.br/evento/missa-de-7o-dia-aury-sampaio/
END:VEVENT
END:VCALENDAR