BEGIN:VCALENDAR
VERSION:2.0
PRODID:-//Clube de Engenharia - ECPv6.15.16//NONSGML v1.0//EN
CALSCALE:GREGORIAN
METHOD:PUBLISH
X-WR-CALNAME:Clube de Engenharia
X-ORIGINAL-URL:https://portalclubedeengenharia.org.br
X-WR-CALDESC:Eventos para Clube de Engenharia
REFRESH-INTERVAL;VALUE=DURATION:PT1H
X-Robots-Tag:noindex
X-PUBLISHED-TTL:PT1H
BEGIN:VTIMEZONE
TZID:America/Sao_Paulo
BEGIN:STANDARD
TZOFFSETFROM:-0200
TZOFFSETTO:-0300
TZNAME:-03
DTSTART:20160221T020000
END:STANDARD
BEGIN:DAYLIGHT
TZOFFSETFROM:-0300
TZOFFSETTO:-0200
TZNAME:-02
DTSTART:20161016T030000
END:DAYLIGHT
BEGIN:STANDARD
TZOFFSETFROM:-0200
TZOFFSETTO:-0300
TZNAME:-03
DTSTART:20170219T020000
END:STANDARD
BEGIN:DAYLIGHT
TZOFFSETFROM:-0300
TZOFFSETTO:-0200
TZNAME:-02
DTSTART:20171015T030000
END:DAYLIGHT
BEGIN:STANDARD
TZOFFSETFROM:-0200
TZOFFSETTO:-0300
TZNAME:-03
DTSTART:20180218T020000
END:STANDARD
BEGIN:DAYLIGHT
TZOFFSETFROM:-0300
TZOFFSETTO:-0200
TZNAME:-02
DTSTART:20181104T030000
END:DAYLIGHT
END:VTIMEZONE
BEGIN:VEVENT
DTSTART;TZID=America/Sao_Paulo:20170925T160000
DTEND;TZID=America/Sao_Paulo:20170925T180000
DTSTAMP:20260425T131941
CREATED:20170810T015600Z
LAST-MODIFIED:20240712T152313Z
UID:26327-1506355200-1506362400@portalclubedeengenharia.org.br
SUMMARY:Normas para segurança de piscinas
DESCRIPTION:Palestrantes:Flávio CoutinhoEngenheiro Mecânico \nAntônio Ricardo CordeiroAssistente Técnico da Associação Brasileira de Normas Técnicas (ABNT) \nModerador:Jorge RiosProfessor do CEFET e Conselheiro do Cube de Engenharia \nPromoção:Diretoria de Atividades Técnicas – DATDivisão Técnica de Recursos Naturais Renováveis – DRNRDivisão Técnica de Construção – DCODivisão Técnica de Engenharia de Segurança – DSG \nApoioAssociação Brasileira de Normas Técnicas – ABNTAssociação Brasileira de Profissionais Especializados na França – ABPEFAssociação Brasileira de Engenharia Sanitária e Ambiental – ABES \nServiço:Dia 25/09 às 16h22º andar do Clube de EngenhariaAv. Rio Branco\, 124 – Metrô Estação Carioca
URL:https://portalclubedeengenharia.org.br/evento/normas-para-seguranca-de-piscinas/
ATTACH;FMTTYPE=image/jpeg:https://portalclubedeengenharia.org.br/wp-content/uploads/2024/07/1504559048.jpg
END:VEVENT
END:VCALENDAR