BEGIN:VCALENDAR
VERSION:2.0
PRODID:-//Clube de Engenharia - ECPv6.15.16//NONSGML v1.0//EN
CALSCALE:GREGORIAN
METHOD:PUBLISH
X-WR-CALNAME:Clube de Engenharia
X-ORIGINAL-URL:https://portalclubedeengenharia.org.br
X-WR-CALDESC:Eventos para Clube de Engenharia
REFRESH-INTERVAL;VALUE=DURATION:PT1H
X-Robots-Tag:noindex
X-PUBLISHED-TTL:PT1H
BEGIN:VTIMEZONE
TZID:America/Sao_Paulo
BEGIN:STANDARD
TZOFFSETFROM:-0200
TZOFFSETTO:-0300
TZNAME:-03
DTSTART:20170219T020000
END:STANDARD
BEGIN:DAYLIGHT
TZOFFSETFROM:-0300
TZOFFSETTO:-0200
TZNAME:-02
DTSTART:20171015T030000
END:DAYLIGHT
BEGIN:STANDARD
TZOFFSETFROM:-0200
TZOFFSETTO:-0300
TZNAME:-03
DTSTART:20180218T020000
END:STANDARD
BEGIN:DAYLIGHT
TZOFFSETFROM:-0300
TZOFFSETTO:-0200
TZNAME:-02
DTSTART:20181104T030000
END:DAYLIGHT
BEGIN:STANDARD
TZOFFSETFROM:-0200
TZOFFSETTO:-0300
TZNAME:-03
DTSTART:20190217T020000
END:STANDARD
END:VTIMEZONE
BEGIN:VEVENT
DTSTART;TZID=America/Sao_Paulo:20181204T180000
DTEND;TZID=America/Sao_Paulo:20181205T200000
DTSTAMP:20260424T032907
CREATED:20181001T191604Z
LAST-MODIFIED:20240712T152450Z
UID:26804-1543946400-1544040000@portalclubedeengenharia.org.br
SUMMARY:Oficina de Origami - arte de origem japonesa para dobrar papel
DESCRIPTION:Orientador:\nHakaru T\nNissei\, Professor\, Engenheiro\, Membro do Conselho Editorial e Conselho Diretor \nTópicos:\nDefinição\, origem e histórico.\nSignificados das figuras.\nObjetivos da oficina e do origami.\nCaracterísticas da arte do origami.\nBenefícios.\nSimbologia.\nRecursos necessários.\nTrabalhos práticos de elaboração de figuras (tsuru ou grou\, caixa\, cesto\, pássaro\, avião\, balão\, banger\, girafa\, elefante\, pinguim\, canoa\, copo\, chapéu\, cisne\, peixe\, sapo\, cavalo\, etc). \nPromoção:\nDiretoria de Atividades Técnicas – DAT\nDiretoria de Atividades Culturais – DAC \nServiço:\nDias 04 e 05/12\, terça e quarta-feira\, das 18h às 20h\n21º andar do Clube de Engenharia\nAv. Rio Branco\, 124 – Metrô Estação Carioca
URL:https://portalclubedeengenharia.org.br/evento/oficina-de-origami-arte-de-origem-japonesa-para-dobrar-papel/
CATEGORIES:Eventos,Eventos do Clube
ATTACH;FMTTYPE=image/jpeg:https://portalclubedeengenharia.org.br/wp-content/uploads/2024/07/oficina-de-origami.jpg
END:VEVENT
END:VCALENDAR