BEGIN:VCALENDAR
VERSION:2.0
PRODID:-//Clube de Engenharia - ECPv6.15.16//NONSGML v1.0//EN
CALSCALE:GREGORIAN
METHOD:PUBLISH
X-WR-CALNAME:Clube de Engenharia
X-ORIGINAL-URL:https://portalclubedeengenharia.org.br
X-WR-CALDESC:Eventos para Clube de Engenharia
REFRESH-INTERVAL;VALUE=DURATION:PT1H
X-Robots-Tag:noindex
X-PUBLISHED-TTL:PT1H
BEGIN:VTIMEZONE
TZID:America/Sao_Paulo
BEGIN:STANDARD
TZOFFSETFROM:-0200
TZOFFSETTO:-0300
TZNAME:-03
DTSTART:20130217T020000
END:STANDARD
BEGIN:DAYLIGHT
TZOFFSETFROM:-0300
TZOFFSETTO:-0200
TZNAME:-02
DTSTART:20131020T030000
END:DAYLIGHT
BEGIN:STANDARD
TZOFFSETFROM:-0200
TZOFFSETTO:-0300
TZNAME:-03
DTSTART:20140216T020000
END:STANDARD
BEGIN:DAYLIGHT
TZOFFSETFROM:-0300
TZOFFSETTO:-0200
TZNAME:-02
DTSTART:20141019T030000
END:DAYLIGHT
BEGIN:STANDARD
TZOFFSETFROM:-0200
TZOFFSETTO:-0300
TZNAME:-03
DTSTART:20150222T020000
END:STANDARD
BEGIN:DAYLIGHT
TZOFFSETFROM:-0300
TZOFFSETTO:-0200
TZNAME:-02
DTSTART:20151018T030000
END:DAYLIGHT
END:VTIMEZONE
BEGIN:VEVENT
DTSTART;TZID=America/Sao_Paulo:20140509T180000
DTEND;TZID=America/Sao_Paulo:20140509T210000
DTSTAMP:20260421T114054
CREATED:20140219T010900Z
LAST-MODIFIED:20240712T151925Z
UID:25408-1399658400-1399669200@portalclubedeengenharia.org.br
SUMMARY:Painel em memória de Francisco Eduardo Lapido Loureiro
DESCRIPTION:Dia 09/05 – 18h – 22º andar \nPainel em memória de Francisco Eduardo Lapido Loureiro – autor do livro “Brasil e a reglobalização da indústria das terras raras” – Publicado pelo CETEM / MCTI em 2013 \nModeradora: Maria Glícia da Nóbrega – Assessoria de Assuntos Internacionais \n  \nPalestra “O efeito do nióbio nas estruturas cristalinas ferrosas de baixo carbono – fato notável para a siderurgia brasileira” \nPalestrante: Edson Monteiro – Mestre em Ciências de Engenharia Metalurgia e Materiais \n  \nPalestra “Perspectivas para implantação de cadeia produtiva de ETR no Brasil” \nPalestrante: Ronaldo Luiz Correa dos Santos – Coordenador de Processos Metalúrgicos e Ambientais – CETEM \n  \nPromoção: DAT/DRM \n  \n 
URL:https://portalclubedeengenharia.org.br/evento/painel-em-memoria-de-francisco-eduardo-lapido-loureiro/
END:VEVENT
END:VCALENDAR