BEGIN:VCALENDAR
VERSION:2.0
PRODID:-//Clube de Engenharia - ECPv6.15.16//NONSGML v1.0//EN
CALSCALE:GREGORIAN
METHOD:PUBLISH
X-WR-CALNAME:Clube de Engenharia
X-ORIGINAL-URL:https://portalclubedeengenharia.org.br
X-WR-CALDESC:Eventos para Clube de Engenharia
REFRESH-INTERVAL;VALUE=DURATION:PT1H
X-Robots-Tag:noindex
X-PUBLISHED-TTL:PT1H
BEGIN:VTIMEZONE
TZID:America/Sao_Paulo
BEGIN:STANDARD
TZOFFSETFROM:-0200
TZOFFSETTO:-0300
TZNAME:-03
DTSTART:20110220T020000
END:STANDARD
BEGIN:DAYLIGHT
TZOFFSETFROM:-0300
TZOFFSETTO:-0200
TZNAME:-02
DTSTART:20111016T030000
END:DAYLIGHT
BEGIN:STANDARD
TZOFFSETFROM:-0200
TZOFFSETTO:-0300
TZNAME:-03
DTSTART:20120226T020000
END:STANDARD
BEGIN:DAYLIGHT
TZOFFSETFROM:-0300
TZOFFSETTO:-0200
TZNAME:-02
DTSTART:20121021T030000
END:DAYLIGHT
BEGIN:STANDARD
TZOFFSETFROM:-0200
TZOFFSETTO:-0300
TZNAME:-03
DTSTART:20130217T020000
END:STANDARD
BEGIN:DAYLIGHT
TZOFFSETFROM:-0300
TZOFFSETTO:-0200
TZNAME:-02
DTSTART:20131020T030000
END:DAYLIGHT
END:VTIMEZONE
BEGIN:VEVENT
DTSTART;TZID=America/Sao_Paulo:20120803T180000
DTEND;TZID=America/Sao_Paulo:20120803T210000
DTSTAMP:20260425T173837
CREATED:20120801T232300Z
LAST-MODIFIED:20240712T151754Z
UID:25100-1344016800-1344027600@portalclubedeengenharia.org.br
SUMMARY:Palestra: Aeromóvel
DESCRIPTION:Dia 03-08-2012 – 18 h \nPalestrante: Professor e Engenheiro Fernando MacDowell \nPromoção: Diretoria de Atividades Técnicas DAT e Divisão Técnica de Transportes e Logística DTRL \nRealização: Fórum de Mobilidade Urbana do Rio de Janeiro \nLocal: Sede do Clube de Engenharia (Av. Rio Branco\, n° 124)
URL:https://portalclubedeengenharia.org.br/evento/palestra-aeromovel/
END:VEVENT
END:VCALENDAR