BEGIN:VCALENDAR
VERSION:2.0
PRODID:-//Clube de Engenharia - ECPv6.15.16//NONSGML v1.0//EN
CALSCALE:GREGORIAN
METHOD:PUBLISH
X-WR-CALNAME:Clube de Engenharia
X-ORIGINAL-URL:https://portalclubedeengenharia.org.br
X-WR-CALDESC:Eventos para Clube de Engenharia
REFRESH-INTERVAL;VALUE=DURATION:PT1H
X-Robots-Tag:noindex
X-PUBLISHED-TTL:PT1H
BEGIN:VTIMEZONE
TZID:America/Sao_Paulo
BEGIN:STANDARD
TZOFFSETFROM:-0200
TZOFFSETTO:-0300
TZNAME:-03
DTSTART:20110220T020000
END:STANDARD
BEGIN:DAYLIGHT
TZOFFSETFROM:-0300
TZOFFSETTO:-0200
TZNAME:-02
DTSTART:20111016T030000
END:DAYLIGHT
BEGIN:STANDARD
TZOFFSETFROM:-0200
TZOFFSETTO:-0300
TZNAME:-03
DTSTART:20120226T020000
END:STANDARD
BEGIN:DAYLIGHT
TZOFFSETFROM:-0300
TZOFFSETTO:-0200
TZNAME:-02
DTSTART:20121021T030000
END:DAYLIGHT
BEGIN:STANDARD
TZOFFSETFROM:-0200
TZOFFSETTO:-0300
TZNAME:-03
DTSTART:20130217T020000
END:STANDARD
BEGIN:DAYLIGHT
TZOFFSETFROM:-0300
TZOFFSETTO:-0200
TZNAME:-02
DTSTART:20131020T030000
END:DAYLIGHT
END:VTIMEZONE
BEGIN:VEVENT
DTSTART;TZID=America/Sao_Paulo:20121126T180000
DTEND;TZID=America/Sao_Paulo:20121126T210000
DTSTAMP:20260424T213043
CREATED:20121101T221300Z
LAST-MODIFIED:20240712T151810Z
UID:25159-1353952800-1353963600@portalclubedeengenharia.org.br
SUMMARY:Palestra "Como está o seu atendimento? Posso ajudá-lo?"
DESCRIPTION:Dia 26/11/12 – 18h – 22º andar \nPalestra “COMO ESTÁ O SEU ATENDIMENTO? POSSO AJUDÁ-LO? – REFLEXÕES SOBRE ASSERTIVIDADE NO RELACIONAMENTO INTERPESSOAL NAS ORGANIZAÇÕES E SEU IMPACTO NO ATENDIMENTO INTERNO E EXTERNO” \nPalestrante: Maria do Carmo Bacelar Schwandt – Pós Graduada em Gestão Estratégica de RH com Docência de Ensino Superior e Pedagogia Empresaria pela UCAM \nPromoção: DAT/DEI/UBQ-RJ \n 
URL:https://portalclubedeengenharia.org.br/evento/palestra-como-esta-o-seu-atendimento-posso-ajuda-lo/
END:VEVENT
END:VCALENDAR