BEGIN:VCALENDAR
VERSION:2.0
PRODID:-//Clube de Engenharia - ECPv6.15.16//NONSGML v1.0//EN
CALSCALE:GREGORIAN
METHOD:PUBLISH
X-WR-CALNAME:Clube de Engenharia
X-ORIGINAL-URL:https://portalclubedeengenharia.org.br
X-WR-CALDESC:Eventos para Clube de Engenharia
REFRESH-INTERVAL;VALUE=DURATION:PT1H
X-Robots-Tag:noindex
X-PUBLISHED-TTL:PT1H
BEGIN:VTIMEZONE
TZID:America/Sao_Paulo
BEGIN:STANDARD
TZOFFSETFROM:-0200
TZOFFSETTO:-0300
TZNAME:-03
DTSTART:20140216T020000
END:STANDARD
BEGIN:DAYLIGHT
TZOFFSETFROM:-0300
TZOFFSETTO:-0200
TZNAME:-02
DTSTART:20141019T030000
END:DAYLIGHT
BEGIN:STANDARD
TZOFFSETFROM:-0200
TZOFFSETTO:-0300
TZNAME:-03
DTSTART:20150222T020000
END:STANDARD
BEGIN:DAYLIGHT
TZOFFSETFROM:-0300
TZOFFSETTO:-0200
TZNAME:-02
DTSTART:20151018T030000
END:DAYLIGHT
BEGIN:STANDARD
TZOFFSETFROM:-0200
TZOFFSETTO:-0300
TZNAME:-03
DTSTART:20160221T020000
END:STANDARD
BEGIN:DAYLIGHT
TZOFFSETFROM:-0300
TZOFFSETTO:-0200
TZNAME:-02
DTSTART:20161016T030000
END:DAYLIGHT
END:VTIMEZONE
BEGIN:VEVENT
DTSTART;TZID=America/Sao_Paulo:20150819T180000
DTEND;TZID=America/Sao_Paulo:20150819T200000
DTSTAMP:20260424T070150
CREATED:20150807T042500Z
LAST-MODIFIED:20240712T152038Z
UID:25649-1440007200-1440014400@portalclubedeengenharia.org.br
SUMMARY:Palestras BIM
DESCRIPTION:Dia 19/08/15 – 18h – 22º andar \n1ª Palestra: “BIM – LICITAÇÕES EM GESTÃO PÚBLICA” \n2ª Palestra “PROJETOS DE AEROPORTOS EM BIM: COMO PLANEJAR DE FORMA MAIS EFICIENTE” \n3ª Palestra “BIM – INTEGRAÇÃO E ANÁLISE DE CENÁRIOS PARA INFRAESTRUTURA” \nPalestrantes: Ronaldo Chaves – Engenheiro Civil e Carlos Alejandro –  Engenheiro; Ricardo Cardial – Arquiteto e Sérgio Lizarralde – Engenheiro de Soluções BIM \nPromoção: DAT/DCO/DESKGRAPHICS/AUTODESK \n\n\n\n 
URL:https://portalclubedeengenharia.org.br/evento/palestras-bim/
ATTACH;FMTTYPE=image/gif:https://portalclubedeengenharia.org.br/wp-content/uploads/2024/07/cleardot-1.gif
END:VEVENT
END:VCALENDAR