BEGIN:VCALENDAR
VERSION:2.0
PRODID:-//Clube de Engenharia - ECPv6.15.16//NONSGML v1.0//EN
CALSCALE:GREGORIAN
METHOD:PUBLISH
X-WR-CALNAME:Clube de Engenharia
X-ORIGINAL-URL:https://portalclubedeengenharia.org.br
X-WR-CALDESC:Eventos para Clube de Engenharia
REFRESH-INTERVAL;VALUE=DURATION:PT1H
X-Robots-Tag:noindex
X-PUBLISHED-TTL:PT1H
BEGIN:VTIMEZONE
TZID:America/Sao_Paulo
BEGIN:STANDARD
TZOFFSETFROM:-0200
TZOFFSETTO:-0300
TZNAME:-03
DTSTART:20120226T020000
END:STANDARD
BEGIN:DAYLIGHT
TZOFFSETFROM:-0300
TZOFFSETTO:-0200
TZNAME:-02
DTSTART:20121021T030000
END:DAYLIGHT
BEGIN:STANDARD
TZOFFSETFROM:-0200
TZOFFSETTO:-0300
TZNAME:-03
DTSTART:20130217T020000
END:STANDARD
BEGIN:DAYLIGHT
TZOFFSETFROM:-0300
TZOFFSETTO:-0200
TZNAME:-02
DTSTART:20131020T030000
END:DAYLIGHT
BEGIN:STANDARD
TZOFFSETFROM:-0200
TZOFFSETTO:-0300
TZNAME:-03
DTSTART:20140216T020000
END:STANDARD
BEGIN:DAYLIGHT
TZOFFSETFROM:-0300
TZOFFSETTO:-0200
TZNAME:-02
DTSTART:20141019T030000
END:DAYLIGHT
END:VTIMEZONE
BEGIN:VEVENT
DTSTART;TZID=America/Sao_Paulo:20131126T180000
DTEND;TZID=America/Sao_Paulo:20131126T210000
DTSTAMP:20260425T230741
CREATED:20131122T235400Z
LAST-MODIFIED:20240712T151920Z
UID:25393-1385488800-1385499600@portalclubedeengenharia.org.br
SUMMARY:Perspectivas para o Brasil
DESCRIPTION:Dia 26/11\, às 18h\, no 20º andar \nDebate: Perspectivas para o Brasil \nDebatedores: \nEmbaixador Samuel Pinheiro Guimarães \nJornalista Franklin Martins \nEconomista Nelson Barbosa \nPromoção: \nInstituto Brasileiro de Estudos Políticos (IBEP) \nClube de Engenharia \n 
URL:https://portalclubedeengenharia.org.br/evento/perspectivas-para-o-brasil/
END:VEVENT
END:VCALENDAR