BEGIN:VCALENDAR
VERSION:2.0
PRODID:-//Clube de Engenharia - ECPv6.15.16//NONSGML v1.0//EN
CALSCALE:GREGORIAN
METHOD:PUBLISH
X-WR-CALNAME:Clube de Engenharia
X-ORIGINAL-URL:https://portalclubedeengenharia.org.br
X-WR-CALDESC:Eventos para Clube de Engenharia
REFRESH-INTERVAL;VALUE=DURATION:PT1H
X-Robots-Tag:noindex
X-PUBLISHED-TTL:PT1H
BEGIN:VTIMEZONE
TZID:America/Sao_Paulo
BEGIN:STANDARD
TZOFFSETFROM:-0200
TZOFFSETTO:-0300
TZNAME:-03
DTSTART:20140216T020000
END:STANDARD
BEGIN:DAYLIGHT
TZOFFSETFROM:-0300
TZOFFSETTO:-0200
TZNAME:-02
DTSTART:20141019T030000
END:DAYLIGHT
BEGIN:STANDARD
TZOFFSETFROM:-0200
TZOFFSETTO:-0300
TZNAME:-03
DTSTART:20150222T020000
END:STANDARD
BEGIN:DAYLIGHT
TZOFFSETFROM:-0300
TZOFFSETTO:-0200
TZNAME:-02
DTSTART:20151018T030000
END:DAYLIGHT
BEGIN:STANDARD
TZOFFSETFROM:-0200
TZOFFSETTO:-0300
TZNAME:-03
DTSTART:20160221T020000
END:STANDARD
BEGIN:DAYLIGHT
TZOFFSETFROM:-0300
TZOFFSETTO:-0200
TZNAME:-02
DTSTART:20161016T030000
END:DAYLIGHT
END:VTIMEZONE
BEGIN:VEVENT
DTSTART;TZID=America/Sao_Paulo:20150813T180000
DTEND;TZID=America/Sao_Paulo:20150813T200000
DTSTAMP:20260424T083853
CREATED:20150715T210000Z
LAST-MODIFIED:20240712T152032Z
UID:25626-1439488800-1439496000@portalclubedeengenharia.org.br
SUMMARY:Planejamento no Saneamento (Ciclo de Conferências de Inverno)
DESCRIPTION:Dia 13/08/15 – 18h – 20º andar \nCiclo de Conferências de Inverno “PLANEJAMENTO NO SANEAMENTO” \nPalestrante: Stelberto Porto Soares \nPromoção: DAT \n  \n \nA palestra faz parte do Ciclo de Conferências de Inverno do Clube de Engenharia.As datas das outras palestras do ciclo em julho são: \nCICLO DE CONFERÊNCIAS DE INVERNO \n08 DE JULHO: Tubulações para gás predial e comercialPALESTRANTE: Flávio Ribeiro Rodrigues \n16 DE JULHO:O mais elementar mecanismo de resistência mecânica dos “aços-Carbono-estruturais”PALESTRANTE: Edson Monteiro \n23 DE JULHO: O desafio da sustentabilidadePALESTRANTE: Irineu Soares \n30 DE JULHO: Telecomunicações e desenvolvimentoPALESTRANTE: Márcio Patusco \n06 DE AGOSTO: Proteção da tomada de água do Sistema GuanduPALESTRANTE: Edes Fernandes de Oliveira  \n13 DE AGOSTO: Planejamento no SaneamentoPALESTRANTE: Stelberto Porto Soares  \n20 de AGOSTO: Razões políticas x estagnação consequente x engenharia ambientalPALESTRANTE: Luiz Carneiro de Oliveira \n 
URL:https://portalclubedeengenharia.org.br/evento/planejamento-no-saneamento-ciclo-de-conferencias-de-inverno/
END:VEVENT
END:VCALENDAR