BEGIN:VCALENDAR
VERSION:2.0
PRODID:-//Clube de Engenharia - ECPv6.15.16//NONSGML v1.0//EN
CALSCALE:GREGORIAN
METHOD:PUBLISH
X-WR-CALNAME:Clube de Engenharia
X-ORIGINAL-URL:https://portalclubedeengenharia.org.br
X-WR-CALDESC:Eventos para Clube de Engenharia
REFRESH-INTERVAL;VALUE=DURATION:PT1H
X-Robots-Tag:noindex
X-PUBLISHED-TTL:PT1H
BEGIN:VTIMEZONE
TZID:America/Sao_Paulo
BEGIN:STANDARD
TZOFFSETFROM:-0200
TZOFFSETTO:-0300
TZNAME:-03
DTSTART:20160221T020000
END:STANDARD
BEGIN:DAYLIGHT
TZOFFSETFROM:-0300
TZOFFSETTO:-0200
TZNAME:-02
DTSTART:20161016T030000
END:DAYLIGHT
BEGIN:STANDARD
TZOFFSETFROM:-0200
TZOFFSETTO:-0300
TZNAME:-03
DTSTART:20170219T020000
END:STANDARD
BEGIN:DAYLIGHT
TZOFFSETFROM:-0300
TZOFFSETTO:-0200
TZNAME:-02
DTSTART:20171015T030000
END:DAYLIGHT
BEGIN:STANDARD
TZOFFSETFROM:-0200
TZOFFSETTO:-0300
TZNAME:-03
DTSTART:20180218T020000
END:STANDARD
BEGIN:DAYLIGHT
TZOFFSETFROM:-0300
TZOFFSETTO:-0200
TZNAME:-02
DTSTART:20181104T030000
END:DAYLIGHT
END:VTIMEZONE
BEGIN:VEVENT
DTSTART;TZID=America/Sao_Paulo:20170419T180000
DTEND;TZID=America/Sao_Paulo:20170419T200000
DTSTAMP:20260419T200633
CREATED:20170404T232100Z
LAST-MODIFIED:20240712T152232Z
UID:26143-1492624800-1492632000@portalclubedeengenharia.org.br
SUMMARY:Prêmio Ernesto Pichler e Lançamento 50 anos da ABGE
DESCRIPTION:Palestrantes:Aline Freitas – geólogaFernando Pires de Camargo – geólogo \nProgramação:18h às 18h10 – Abertura18h10 às 18h30 – Palestra 1 – Aline Freitas – DRM-RJ18h30 às 18h50 – Palestra 2 – Fernando Pires de Camargo – Geólogo18h50 às 19h10 – Entrega do Prêmio – Guido Guidicini (Guidicini & Associados)19h10 às 19h20 -Lançamento dos 50 anos19h30 às 19h50 – Encerramento19h50 às 20h30 – Confraternização \nPromoção:Clube de EngenhariaDiretoria de Atividades Técnicas (DAT)Divisão Técnica de Geotecnia (DTG)Associação Brasileira de Geologia de Engenharia e Ambiental (ABGE) – Núcleo Rio \nServiço:Dia 19/04 às 18h22º andar do Clube de EngenhariaAv. Rio Branco\, 124 – Metrô Estação Carioca
URL:https://portalclubedeengenharia.org.br/evento/premio-ernesto-pichler-e-lancamento-50-anos-da-abge/
ATTACH;FMTTYPE=image/jpeg:https://portalclubedeengenharia.org.br/wp-content/uploads/2024/07/1491588442.jpg
END:VEVENT
END:VCALENDAR