BEGIN:VCALENDAR
VERSION:2.0
PRODID:-//Clube de Engenharia - ECPv6.15.16//NONSGML v1.0//EN
CALSCALE:GREGORIAN
METHOD:PUBLISH
X-WR-CALNAME:Clube de Engenharia
X-ORIGINAL-URL:https://portalclubedeengenharia.org.br
X-WR-CALDESC:Eventos para Clube de Engenharia
REFRESH-INTERVAL;VALUE=DURATION:PT1H
X-Robots-Tag:noindex
X-PUBLISHED-TTL:PT1H
BEGIN:VTIMEZONE
TZID:America/Sao_Paulo
BEGIN:STANDARD
TZOFFSETFROM:-0200
TZOFFSETTO:-0300
TZNAME:-03
DTSTART:20140216T020000
END:STANDARD
BEGIN:DAYLIGHT
TZOFFSETFROM:-0300
TZOFFSETTO:-0200
TZNAME:-02
DTSTART:20141019T030000
END:DAYLIGHT
BEGIN:STANDARD
TZOFFSETFROM:-0200
TZOFFSETTO:-0300
TZNAME:-03
DTSTART:20150222T020000
END:STANDARD
BEGIN:DAYLIGHT
TZOFFSETFROM:-0300
TZOFFSETTO:-0200
TZNAME:-02
DTSTART:20151018T030000
END:DAYLIGHT
BEGIN:STANDARD
TZOFFSETFROM:-0200
TZOFFSETTO:-0300
TZNAME:-03
DTSTART:20160221T020000
END:STANDARD
BEGIN:DAYLIGHT
TZOFFSETFROM:-0300
TZOFFSETTO:-0200
TZNAME:-02
DTSTART:20161016T030000
END:DAYLIGHT
END:VTIMEZONE
BEGIN:VEVENT
DTSTART;TZID=America/Sao_Paulo:20151127T203000
DTEND;TZID=America/Sao_Paulo:20151127T203000
DTSTAMP:20260424T092904
CREATED:20151126T210400Z
LAST-MODIFIED:20240712T152101Z
UID:25743-1448656200-1448656200@portalclubedeengenharia.org.br
SUMMARY:Primeiro Encontro Anual da Academia Nacional de Engenharia - ANE
DESCRIPTION:No dia 27 de novembro será realizado o Primeiro Encontro Anual da Academia Nacional de Engenharia – ANE. Clique aqui para a programação e mais informações sobre o encontro.  \nNeste evento serão apresentadas e discutidas as atividades dos Comitês Técnicos da ANE.  \nO encontro é uma oportunidade para o estreitamento de relações entre acadêmicos e de conhecimento das atividades da ANE.  \nContato: Acad. Eduardo S. Brick  brick@producao.uff.br \n 
URL:https://portalclubedeengenharia.org.br/evento/primeiro-encontro-anual-da-academia-nacional-de-engenharia-ane/
END:VEVENT
END:VCALENDAR