BEGIN:VCALENDAR
VERSION:2.0
PRODID:-//Clube de Engenharia - ECPv6.15.16//NONSGML v1.0//EN
CALSCALE:GREGORIAN
METHOD:PUBLISH
X-WR-CALNAME:Clube de Engenharia
X-ORIGINAL-URL:https://portalclubedeengenharia.org.br
X-WR-CALDESC:Eventos para Clube de Engenharia
REFRESH-INTERVAL;VALUE=DURATION:PT1H
X-Robots-Tag:noindex
X-PUBLISHED-TTL:PT1H
BEGIN:VTIMEZONE
TZID:America/Sao_Paulo
BEGIN:STANDARD
TZOFFSETFROM:-0300
TZOFFSETTO:-0300
TZNAME:-03
DTSTART:20200101T000000
END:STANDARD
END:VTIMEZONE
BEGIN:VEVENT
DTSTART;TZID=America/Sao_Paulo:20211123T180000
DTEND;TZID=America/Sao_Paulo:20211123T200000
DTSTAMP:20260419T141330
CREATED:20211116T192135Z
LAST-MODIFIED:20240712T152742Z
UID:27656-1637690400-1637697600@portalclubedeengenharia.org.br
SUMMARY:Provas de carga em estacas pelo método do equilíbrio: apresentação\, interpretação e discussão
DESCRIPTION:  \n23 de novembro\, às 18h\nPlataforma: www.abms.com.br/canalabms\nPalestrantes: Francisco Lopes\, Nelson Aoki e Paulo Santana Maria.\nModeração: Bernadete Ragoni Danziger.\nPromoção: ABMS e Clube de Engenharia.
URL:https://portalclubedeengenharia.org.br/evento/provas-de-carga-em-estacas-pelo-metodo-do-equilibrio-apresentacao-interpretacao-e-discussao/
CATEGORIES:Eventos,Outros Eventos
ATTACH;FMTTYPE=image/jpeg:https://portalclubedeengenharia.org.br/wp-content/uploads/2024/07/whatsapp-image-2021-11-12-at-17.27.36.jpeg
END:VEVENT
END:VCALENDAR