BEGIN:VCALENDAR
VERSION:2.0
PRODID:-//Clube de Engenharia - ECPv6.15.16//NONSGML v1.0//EN
CALSCALE:GREGORIAN
METHOD:PUBLISH
X-WR-CALNAME:Clube de Engenharia
X-ORIGINAL-URL:https://portalclubedeengenharia.org.br
X-WR-CALDESC:Eventos para Clube de Engenharia
REFRESH-INTERVAL;VALUE=DURATION:PT1H
X-Robots-Tag:noindex
X-PUBLISHED-TTL:PT1H
BEGIN:VTIMEZONE
TZID:America/Sao_Paulo
BEGIN:STANDARD
TZOFFSETFROM:-0200
TZOFFSETTO:-0300
TZNAME:-03
DTSTART:20160221T020000
END:STANDARD
BEGIN:DAYLIGHT
TZOFFSETFROM:-0300
TZOFFSETTO:-0200
TZNAME:-02
DTSTART:20161016T030000
END:DAYLIGHT
BEGIN:STANDARD
TZOFFSETFROM:-0200
TZOFFSETTO:-0300
TZNAME:-03
DTSTART:20170219T020000
END:STANDARD
BEGIN:DAYLIGHT
TZOFFSETFROM:-0300
TZOFFSETTO:-0200
TZNAME:-02
DTSTART:20171015T030000
END:DAYLIGHT
BEGIN:STANDARD
TZOFFSETFROM:-0200
TZOFFSETTO:-0300
TZNAME:-03
DTSTART:20180218T020000
END:STANDARD
BEGIN:DAYLIGHT
TZOFFSETFROM:-0300
TZOFFSETTO:-0200
TZNAME:-02
DTSTART:20181104T030000
END:DAYLIGHT
END:VTIMEZONE
BEGIN:VEVENT
DTSTART;TZID=America/Sao_Paulo:20170411T180000
DTEND;TZID=America/Sao_Paulo:20170411T200000
DTSTAMP:20260420T010237
CREATED:20170327T215600Z
LAST-MODIFIED:20240712T152227Z
UID:26117-1491933600-1491940800@portalclubedeengenharia.org.br
SUMMARY:Reciclagem de lixo urbano: uma boa alternativa de ação sustentável
DESCRIPTION:Palestrante:Claudio GarcezGraduado em administração de empresas e MBA pela Universidade Cândido Mendes\, graduado em Gestão Ambiental pela Universidade Estácio de Sá\, consultor ambiental da ONG EcoMarampedi. \nPromoção:Diretoria de Atividades Técnicas – DATDivisão Técnica de Engenharia do Ambiente – DEA \nApoio:Divisão Técnica de Recursos Hídricos e Saneamento – DRHSDivisão Técnica de Recursos Naturais Renováveis – DRNRDivisão Técnica de Engenharia Química – DTEQDivisão Técnica de Engenharia de Segurança – DSG \nServiço:Dia 11/04 às 18h20º andar do Clube de Engenharia Av. Rio Branco\, 124 – Metrô Estação Carioca
URL:https://portalclubedeengenharia.org.br/evento/reciclagem-de-lixo-urbano-uma-boa-alternativa-de-acao-sustentavel/
ATTACH;FMTTYPE=image/jpeg:https://portalclubedeengenharia.org.br/wp-content/uploads/2024/07/1490808425.jpg
END:VEVENT
END:VCALENDAR