BEGIN:VCALENDAR
VERSION:2.0
PRODID:-//Clube de Engenharia - ECPv6.15.16//NONSGML v1.0//EN
CALSCALE:GREGORIAN
METHOD:PUBLISH
X-WR-CALNAME:Clube de Engenharia
X-ORIGINAL-URL:https://portalclubedeengenharia.org.br
X-WR-CALDESC:Eventos para Clube de Engenharia
REFRESH-INTERVAL;VALUE=DURATION:PT1H
X-Robots-Tag:noindex
X-PUBLISHED-TTL:PT1H
BEGIN:VTIMEZONE
TZID:America/Sao_Paulo
BEGIN:STANDARD
TZOFFSETFROM:-0200
TZOFFSETTO:-0300
TZNAME:-03
DTSTART:20110220T020000
END:STANDARD
BEGIN:DAYLIGHT
TZOFFSETFROM:-0300
TZOFFSETTO:-0200
TZNAME:-02
DTSTART:20111016T030000
END:DAYLIGHT
BEGIN:STANDARD
TZOFFSETFROM:-0200
TZOFFSETTO:-0300
TZNAME:-03
DTSTART:20120226T020000
END:STANDARD
BEGIN:DAYLIGHT
TZOFFSETFROM:-0300
TZOFFSETTO:-0200
TZNAME:-02
DTSTART:20121021T030000
END:DAYLIGHT
BEGIN:STANDARD
TZOFFSETFROM:-0200
TZOFFSETTO:-0300
TZNAME:-03
DTSTART:20130217T020000
END:STANDARD
BEGIN:DAYLIGHT
TZOFFSETFROM:-0300
TZOFFSETTO:-0200
TZNAME:-02
DTSTART:20131020T030000
END:DAYLIGHT
END:VTIMEZONE
BEGIN:VEVENT
DTSTART;TZID=America/Sao_Paulo:20121206T183000
DTEND;TZID=America/Sao_Paulo:20121206T213000
DTSTAMP:20260421T081605
CREATED:20121108T190500Z
LAST-MODIFIED:20240712T151812Z
UID:25165-1354818600-1354829400@portalclubedeengenharia.org.br
SUMMARY:Renovação das águas da lagoa Rodrigo de Freitas
DESCRIPTION:Dia 06/12/12 – 18h30 – 22º andar \nPalestra “RENOVAÇÃO DAS ÁGUAS DA LAGOA RODRIGO DE FREITAS” \nPalestrantes: Engenheiros Flávio Coutinho e Jorge Rios \nPromoção: DAT/DRHS \n  \n 
URL:https://portalclubedeengenharia.org.br/evento/renovacao-das-aguas-da-lagoa-rodrigo-de-freitas/
END:VEVENT
END:VCALENDAR