BEGIN:VCALENDAR
VERSION:2.0
PRODID:-//Clube de Engenharia - ECPv6.15.16//NONSGML v1.0//EN
CALSCALE:GREGORIAN
METHOD:PUBLISH
X-WR-CALNAME:Clube de Engenharia
X-ORIGINAL-URL:https://portalclubedeengenharia.org.br
X-WR-CALDESC:Eventos para Clube de Engenharia
REFRESH-INTERVAL;VALUE=DURATION:PT1H
X-Robots-Tag:noindex
X-PUBLISHED-TTL:PT1H
BEGIN:VTIMEZONE
TZID:America/Sao_Paulo
BEGIN:STANDARD
TZOFFSETFROM:-0200
TZOFFSETTO:-0300
TZNAME:-03
DTSTART:20170219T020000
END:STANDARD
BEGIN:DAYLIGHT
TZOFFSETFROM:-0300
TZOFFSETTO:-0200
TZNAME:-02
DTSTART:20171015T030000
END:DAYLIGHT
BEGIN:STANDARD
TZOFFSETFROM:-0200
TZOFFSETTO:-0300
TZNAME:-03
DTSTART:20180218T020000
END:STANDARD
BEGIN:DAYLIGHT
TZOFFSETFROM:-0300
TZOFFSETTO:-0200
TZNAME:-02
DTSTART:20181104T030000
END:DAYLIGHT
BEGIN:STANDARD
TZOFFSETFROM:-0200
TZOFFSETTO:-0300
TZNAME:-03
DTSTART:20190217T020000
END:STANDARD
END:VTIMEZONE
BEGIN:VEVENT
DTSTART;TZID=America/Sao_Paulo:20181205T170000
DTEND;TZID=America/Sao_Paulo:20181205T190000
DTSTAMP:20260419T220218
CREATED:20181001T192726Z
LAST-MODIFIED:20240712T152450Z
UID:26806-1544029200-1544036400@portalclubedeengenharia.org.br
SUMMARY:Segurança\, confiabilidade e riscos em obras geotécnicas - 14ª PALESTRA MILTON VARGAS DA ABMS – 2018
DESCRIPTION:Segurança\, confiabilidade e riscos em obras geotécnicas\n14ª PALESTRA MILTON VARGAS DA ABMS – 2018 \nAnualmente\, a Associação Brasileira de Mecânica dos Solos e Engenharia Geotécnica (ABMS) realiza a Palestra Milton Vargas\, contando com um palestrante de destaque escolhido pela diretoria nacional da associação\, o qual faz a apresentação itinerante em diversas partes do país. O evento homenageia o professor Milton Vargas\, ícone da engenharia geotécnica\, um dos primeiros a lecionar mecânica dos solos no país\, no início dos anos 40\, e um dos fundadores da ABMS. Milton Vargas\, que faleceu em 2011\, publicou diversos livros\, tanto sobre engenharia quanto ciências e filosofia\, além de dezenas de artigos em revistas. \nEm 2018\, o palestrante será o professor Waldemar Hachich. Graduado em Engenharia Civil em 1972\, Hachichi obteve o mestrado em Engenharia de Estruturas (1978)\, assim como a graduação\, na Escola Politécnica da Universidade de São Paulo. Doutorou-se em Engenharia Geotécnica no Massachusetts Institute of Technology (1981). \nDocente da Escola Politécnica da Universidade de São Paulo desde 1973\, atualmente é professor titular e foi paraninfo ou professor homenageado de inúmeras turmas ao longo desses anos\, possivelmente em razão da sua constante atenção ao tema de ensino e aprendizado de Engenharia Civil. Orientou diversas pesquisas de mestrado e doutorado. Trabalhou na Promon Engenharia (1973-1976). \nFundou as empresas Interact\, na qual atuou de 1986 a 1991\, e Geoexpert (1992-presente)\, tendo combinado\, desde 1982\, atividades de consultoria geotécnica e de desenvolvimento de software (Estável e Percplan). Foi presidente da ABMS (2001-2004)\, vice-presidente da ISSMGE para a América do Sul (2005-2009)\, editor da Soils and Rocks (2013-2016). É membro de dois comitês técnicos internacionais da ISSMGE: TC306 – “Geo-Engineering Education” (do qual foi presidente de 2013 a 2017) e TC304 – “Engineering Practice of Risk Assessment and Management”. \nÉ coeditor e coautor do livro “Fundações: Teoria e Prática”. Seus interesses profissionais e acadêmicos dirigem-se prioritariamente para métodos analíticos\, numéricos e probabilísticos em Geomecânica e para riscos\, confiabilidade e decisões em Engenharia Geotécnica. \nResumo:\nA segurança das obras geotécnicas é uma preocupação sempre presente\, sobretudo em função da extrema variabilidade\, no tempo e no espaço\, dos materiais naturais envolvidos. Procura-se examinar o desenvolvimento histórico dos processos de verificação e garantia da segurança em Engenharia Geotécnica\, dar interpretação conceitual aos indicadores de segurança adotados e discutir os riscos a eles associados\, inclusive aqueles de origem não necessariamente geotécnica. \nEstruturas geotécnicas usuais (fundações\, taludes de aterros\, cortes e solos reforçados\, contenções\, barragens e túneis) oferecem exemplos simples que permitem discutir técnicas de tomada de decisões visando a uma gestão eficiente dos riscos\, tendo como pano de fundo modelos probabilísticos adequados e parâmetros de projeto bem estimados. \nCaminhos para a evolução da análise de confiabilidade e da gestão de riscos de obras geotécnicas são apontados\, assim como os cuidados necessários para garantir a correção – e\, portanto\, a aplicabilidade prática – dos resultados obtidos. \nPromoção:\nClube de Engenharia\nDiretoria de Atividades Técnicas – DAT\nDivisão Técnica de Geotecnia – DTG\nAssociação Brasileira de Mecânica dos Solos e Engenharia Geotécnica – ABMS \nServiço:\nDia 05/12\, quarta-feira\, às 17h\n22º andar do Clube de Engenharia\nAv. Rio Branco\, 124 – Metrô Estação Carioca \n 
URL:https://portalclubedeengenharia.org.br/evento/seguranca-confiabilidade-e-riscos-em-obras-geotecnicas-14a-palestra-milton-vargas-da-abms-2018/
CATEGORIES:Eventos,Eventos do Clube
END:VEVENT
END:VCALENDAR