BEGIN:VCALENDAR
VERSION:2.0
PRODID:-//Clube de Engenharia - ECPv6.15.16//NONSGML v1.0//EN
CALSCALE:GREGORIAN
METHOD:PUBLISH
X-WR-CALNAME:Clube de Engenharia
X-ORIGINAL-URL:https://portalclubedeengenharia.org.br
X-WR-CALDESC:Eventos para Clube de Engenharia
REFRESH-INTERVAL;VALUE=DURATION:PT1H
X-Robots-Tag:noindex
X-PUBLISHED-TTL:PT1H
BEGIN:VTIMEZONE
TZID:America/Sao_Paulo
BEGIN:STANDARD
TZOFFSETFROM:-0200
TZOFFSETTO:-0300
TZNAME:-03
DTSTART:20160221T020000
END:STANDARD
BEGIN:DAYLIGHT
TZOFFSETFROM:-0300
TZOFFSETTO:-0200
TZNAME:-02
DTSTART:20161016T030000
END:DAYLIGHT
BEGIN:STANDARD
TZOFFSETFROM:-0200
TZOFFSETTO:-0300
TZNAME:-03
DTSTART:20170219T020000
END:STANDARD
BEGIN:DAYLIGHT
TZOFFSETFROM:-0300
TZOFFSETTO:-0200
TZNAME:-02
DTSTART:20171015T030000
END:DAYLIGHT
BEGIN:STANDARD
TZOFFSETFROM:-0200
TZOFFSETTO:-0300
TZNAME:-03
DTSTART:20180218T020000
END:STANDARD
BEGIN:DAYLIGHT
TZOFFSETFROM:-0300
TZOFFSETTO:-0200
TZNAME:-02
DTSTART:20181104T030000
END:DAYLIGHT
END:VTIMEZONE
BEGIN:VEVENT
DTSTART;TZID=America/Sao_Paulo:20170922T220000
DTEND;TZID=America/Sao_Paulo:20170922T220000
DTSTAMP:20260425T132745
CREATED:20170918T215200Z
LAST-MODIFIED:20240712T152322Z
UID:26368-1506117600-1506117600@portalclubedeengenharia.org.br
SUMMARY:Seminário Conteúdo Local - Cadeia de petróleo e gás
DESCRIPTION:O atual Governo mudou as regras da política de conteúdo local. Reduziu em 50% em média os percentuais mínimos de equipamentos e serviços produzidos no País exigidos em licitações de exploração de petróleo e gás. Políticas de Conteúdo Local geram capacitação e inovação\, criam empregos\, ampliam investimentos e estimulam a cadeia industrial. \nPara debater o assunto\, no dia 22/09\, próxima sexta-feira\, o Clube de Engenharia receberá o Seminário Conteúdo Local – Cadeia de Petróleo e Gás. O evento\, que acontecerá entre as 10h e as 13h\, foi requerido pelo senador Lindbergh Farias (PT-RJ). Em sua justificativa\, ele declara que diante da crise instalada na Petrobras\, o atual governo aponta a exigência de conteúdo local como uma das barreiras impeditivas da retomada do crescimento dessa indústria e propõe a redução substancial dos percentuais mínimos de conteúdo local para as próximas rodadas de licitações.  \nCom a participação de representantes dos ministérios de Minas e Energia; da Indústria\, Comércio Exterior e Serviços; e de Ciência\, Tecnologia\, Inovações e Comunicações\, além de representantes do Instituto de Economia da UFRJ\, Petrobras\, da Agência Nacional do Petróleo (ANP)\, do Banco Nacional de Desenvolvimento Econômico e Social (BNDES)\, da Agência Brasileira de Desenvolvimento Industrial\, das federações dos petroleiros\, das associações de Indústria de Máquinas e Equipamentos\, da Indústria Química e dos sindicatos dos engenheiros e da Construção e Reparação Naval. \nServiço:Dia 22/09 das 10h às 13h20º andar do Clube de EngenhariaAv. Rio Branco\, 124 – Metrô Estação Carioca
URL:https://portalclubedeengenharia.org.br/evento/seminario-conteudo-local-cadeia-de-petroleo-e-gas/
ATTACH;FMTTYPE=image/jpeg:https://portalclubedeengenharia.org.br/wp-content/uploads/2024/07/1505770763.jpeg
END:VEVENT
END:VCALENDAR