BEGIN:VCALENDAR
VERSION:2.0
PRODID:-//Clube de Engenharia - ECPv6.15.16//NONSGML v1.0//EN
CALSCALE:GREGORIAN
METHOD:PUBLISH
X-WR-CALNAME:Clube de Engenharia
X-ORIGINAL-URL:https://portalclubedeengenharia.org.br
X-WR-CALDESC:Eventos para Clube de Engenharia
REFRESH-INTERVAL;VALUE=DURATION:PT1H
X-Robots-Tag:noindex
X-PUBLISHED-TTL:PT1H
BEGIN:VTIMEZONE
TZID:America/Sao_Paulo
BEGIN:STANDARD
TZOFFSETFROM:-0200
TZOFFSETTO:-0300
TZNAME:-03
DTSTART:20170219T020000
END:STANDARD
BEGIN:DAYLIGHT
TZOFFSETFROM:-0300
TZOFFSETTO:-0200
TZNAME:-02
DTSTART:20171015T030000
END:DAYLIGHT
BEGIN:STANDARD
TZOFFSETFROM:-0200
TZOFFSETTO:-0300
TZNAME:-03
DTSTART:20180218T020000
END:STANDARD
BEGIN:DAYLIGHT
TZOFFSETFROM:-0300
TZOFFSETTO:-0200
TZNAME:-02
DTSTART:20181104T030000
END:DAYLIGHT
BEGIN:STANDARD
TZOFFSETFROM:-0200
TZOFFSETTO:-0300
TZNAME:-03
DTSTART:20190217T020000
END:STANDARD
END:VTIMEZONE
BEGIN:VEVENT
DTSTART;TZID=America/Sao_Paulo:20180204T220000
DTEND;TZID=America/Sao_Paulo:20180204T220000
DTSTAMP:20260425T121003
CREATED:20180125T193700Z
LAST-MODIFIED:20240712T152357Z
UID:26540-1517781600-1517781600@portalclubedeengenharia.org.br
SUMMARY:Seminário Karate-Do Kobu-Do Shinshukan
DESCRIPTION:Ministrante:Prof. Luiz Rodolfo de Aragão OrtizGraduado no Karatê como 8º Dan Karatê-Do e como 5º Dan Kobu-Do \nCom 72 anos de idade\, o professor Luiz Rodolfo Ortiz soma 60 anos de prática esportiva\, e no Seminário na Unidade Zona Oeste do Clube fará a comemoração de 50 anos praticando o ensino de artes marciais.  \nTaxa única: R$ 10\,00. Apresentar carteira de identidade.  \nServiço: 04/02\, domingo\, das 10 às 12hUnidade Zona Oeste do Clube de EngenhariaEstrada da Ilha\, 241 – Ilha de Guaratiba
URL:https://portalclubedeengenharia.org.br/evento/seminario-karate-do-kobu-do-shinshukan/
ATTACH;FMTTYPE=image/jpeg:https://portalclubedeengenharia.org.br/wp-content/uploads/2024/07/1516901981.jpg
END:VEVENT
END:VCALENDAR