BEGIN:VCALENDAR
VERSION:2.0
PRODID:-//Clube de Engenharia - ECPv6.15.16//NONSGML v1.0//EN
CALSCALE:GREGORIAN
METHOD:PUBLISH
X-WR-CALNAME:Clube de Engenharia
X-ORIGINAL-URL:https://portalclubedeengenharia.org.br
X-WR-CALDESC:Eventos para Clube de Engenharia
REFRESH-INTERVAL;VALUE=DURATION:PT1H
X-Robots-Tag:noindex
X-PUBLISHED-TTL:PT1H
BEGIN:VTIMEZONE
TZID:America/Sao_Paulo
BEGIN:STANDARD
TZOFFSETFROM:-0200
TZOFFSETTO:-0300
TZNAME:-03
DTSTART:20150222T020000
END:STANDARD
BEGIN:DAYLIGHT
TZOFFSETFROM:-0300
TZOFFSETTO:-0200
TZNAME:-02
DTSTART:20151018T030000
END:DAYLIGHT
BEGIN:STANDARD
TZOFFSETFROM:-0200
TZOFFSETTO:-0300
TZNAME:-03
DTSTART:20160221T020000
END:STANDARD
BEGIN:DAYLIGHT
TZOFFSETFROM:-0300
TZOFFSETTO:-0200
TZNAME:-02
DTSTART:20161016T030000
END:DAYLIGHT
BEGIN:STANDARD
TZOFFSETFROM:-0200
TZOFFSETTO:-0300
TZNAME:-03
DTSTART:20170219T020000
END:STANDARD
BEGIN:DAYLIGHT
TZOFFSETFROM:-0300
TZOFFSETTO:-0200
TZNAME:-02
DTSTART:20171015T030000
END:DAYLIGHT
END:VTIMEZONE
BEGIN:VEVENT
DTSTART;TZID=America/Sao_Paulo:20160830T210000
DTEND;TZID=America/Sao_Paulo:20160830T210000
DTSTAMP:20260425T162018
CREATED:20160829T213100Z
LAST-MODIFIED:20240712T152148Z
UID:25943-1472590800-1472590800@portalclubedeengenharia.org.br
SUMMARY:Seminário O Marco Regulatório da Banda Larga
DESCRIPTION:O conselheiro do Clube de Engenharia Marcio Patusco estará como palestrante no seminário “O marco regulatório da Banda Larga: seus impactos sobre a universalização do acesso e o setor produtivo”\, organizado pelo Sistema Firjan no próximo dia 30\, às 09h\, na Firjan.  \nO presidente do Conselho da ANATEL estará junto a representantes do Sindicato da Indústria Eletrônica\, de Informática\, de Telecomunicações\, de Produção de Software\, Componentes no Estado do Rio de Janeiro (Sinditec)\, da Associação Brasileira de Telecomunicações (ABTelecom)\, do sistema Firjan e da empresa Wilson Sons. Marcio Patusco participará da abertura e da mesa “Uma visão prospectiva de cenário de universalização da Banda Larga pela ANATEL”.  \nO objetivo do evento é discutir as possíveis mudanças no marco regulatório da internet banda larga\, com destaque para os objetivos da sociedade civil de universalização do serviço e os impactos do modelo de franquias para o setor produtivo do país. O evento será gratuito mas tem vagas limitadas. \nConfira a programação completa: \n09h às 09h20Abertura– Luiz Rocha – Presidente da ABTelecom– Marcio Patusco – Presidente do Conselho da ANATEL– Felipe Meier – Vice-presidente do Sinditec– Marcio Fortes de Almeida – Diretor de relações institucionais do Sistema Firjan \n9h20 às 10h10 Uma visão prospectiva de cenário de universalização da Banda Larga pela ANATEL– Marcio Patusco – Presidente do Conselho Consultivo da ANATEL \n10h10 às 10h40O impacto das franquias de banda larga sobre o setor produtivo– Riley Rodrigues de Oliveira – Gerente de Estudos de Infraestrutura da Diretoria de Desenvolvimento Econômico do Sistema FIRJAN \n10h40 às 11h00 A visão empresarial sobre o marco regulatório do serviço de banda larga– Guilherme Cruz – CIO da Wilson Sons \n11h às 11h20 Coffee-break \n11h20 às 12h30 Debate– Marcio Patusco – Presidente do Conselho Consultivo da ANATEL– Riley Rodrigues de Oliveira – Gerente de Estudos de Infraestrutura da Diretoria de Desenvolvimento Econômico do Sistema FIRJAN– Guilherme Cruz – CIO da Wilson Sons– Roberto Aroso – Diretor do Sinditec (Mediador) \nServiço: Dia 30/08 às 09hAvenida Graça Aranha\, 1\, 13º andar – CentroConfirmar presença pelos telefones:0800 0231 2314002 0231
URL:https://portalclubedeengenharia.org.br/evento/seminario-o-marco-regulatorio-da-banda-larga/
ATTACH;FMTTYPE=image/jpeg:https://portalclubedeengenharia.org.br/wp-content/uploads/2024/07/1472496050.jpg
END:VEVENT
END:VCALENDAR