BEGIN:VCALENDAR
VERSION:2.0
PRODID:-//Clube de Engenharia - ECPv6.15.16//NONSGML v1.0//EN
CALSCALE:GREGORIAN
METHOD:PUBLISH
X-WR-CALNAME:Clube de Engenharia
X-ORIGINAL-URL:https://portalclubedeengenharia.org.br
X-WR-CALDESC:Eventos para Clube de Engenharia
REFRESH-INTERVAL;VALUE=DURATION:PT1H
X-Robots-Tag:noindex
X-PUBLISHED-TTL:PT1H
BEGIN:VTIMEZONE
TZID:America/Sao_Paulo
BEGIN:STANDARD
TZOFFSETFROM:-0200
TZOFFSETTO:-0300
TZNAME:-03
DTSTART:20140216T020000
END:STANDARD
BEGIN:DAYLIGHT
TZOFFSETFROM:-0300
TZOFFSETTO:-0200
TZNAME:-02
DTSTART:20141019T030000
END:DAYLIGHT
BEGIN:STANDARD
TZOFFSETFROM:-0200
TZOFFSETTO:-0300
TZNAME:-03
DTSTART:20150222T020000
END:STANDARD
BEGIN:DAYLIGHT
TZOFFSETFROM:-0300
TZOFFSETTO:-0200
TZNAME:-02
DTSTART:20151018T030000
END:DAYLIGHT
BEGIN:STANDARD
TZOFFSETFROM:-0200
TZOFFSETTO:-0300
TZNAME:-03
DTSTART:20160221T020000
END:STANDARD
BEGIN:DAYLIGHT
TZOFFSETFROM:-0300
TZOFFSETTO:-0200
TZNAME:-02
DTSTART:20161016T030000
END:DAYLIGHT
END:VTIMEZONE
BEGIN:VEVENT
DTSTART;TZID=America/Sao_Paulo:20150916T180000
DTEND;TZID=America/Sao_Paulo:20150930T203000
DTSTAMP:20260424T090247
CREATED:20150901T191400Z
LAST-MODIFIED:20240712T152039Z
UID:25655-1442426400-1443645000@portalclubedeengenharia.org.br
SUMMARY:Seminário: Uma Estratégia para o Brasil\, um Plano para a Petrobras
DESCRIPTION:Aspectos estrategicos e geopolíticos que influenciam o planejamento estratégico e de negócios da Petrobras.\nDias 16\, 23 e 30 de setembro. \n  \nDiplomacia\, sistema monetário internacional e petróleo: desafios e oportunidades para o Brasil.  \n16/09 de 18:00 às 20:30 (22º andar) \nProf. Maurício Metri \nProfessor da Universidade Federal do Rio de Janeiro (UFRJ). \n \nGeopolítica do petróleo e conjuntura internacional  \n23/09 de 18:00 às 20:30 (22º andar). \nProf. Raphael Padula \nProfessor da Universidade Federal do Rio de Janeiro (PEPI-UFRJ) \n  \nO Brasil e os BRICS \n30/09 18:00 às 20:30 (22º andar). \nProf. William Gonçalves  \nProfessor de Relações Internacionais da UERJ e da Universidad Nacional de Rosario-UNR (Argentina). \n \nPROMOÇÃO \nAssociação de Engenheiros da Petrobrás (AEPET)\, Programa de Pós-Graduação em Economia Política Internacional (PEPI) do Instituto de Economia da UFRJ (PEPI-UFRJ) e Clube de Engenharia  INFORMAÇÃO: (21) 2277 3750 www.aepet.org.br www.facebook.com/AEPETRJ?fref=ts   Avenida Rio Branco\, 124 – 22º andar CLUBE DE ENGENHARIA. \n  \n \n 
URL:https://portalclubedeengenharia.org.br/evento/seminario-uma-estrategia-para-o-brasil-um-plano-para-a-petrobras/
ATTACH;FMTTYPE=image/png:https://portalclubedeengenharia.org.br/wp-content/uploads/2024/07/1441125001.png
END:VEVENT
END:VCALENDAR