BEGIN:VCALENDAR
VERSION:2.0
PRODID:-//Clube de Engenharia - ECPv6.15.16//NONSGML v1.0//EN
CALSCALE:GREGORIAN
METHOD:PUBLISH
X-WR-CALNAME:Clube de Engenharia
X-ORIGINAL-URL:https://portalclubedeengenharia.org.br
X-WR-CALDESC:Eventos para Clube de Engenharia
REFRESH-INTERVAL;VALUE=DURATION:PT1H
X-Robots-Tag:noindex
X-PUBLISHED-TTL:PT1H
BEGIN:VTIMEZONE
TZID:America/Sao_Paulo
BEGIN:STANDARD
TZOFFSETFROM:-0200
TZOFFSETTO:-0300
TZNAME:-03
DTSTART:20140216T020000
END:STANDARD
BEGIN:DAYLIGHT
TZOFFSETFROM:-0300
TZOFFSETTO:-0200
TZNAME:-02
DTSTART:20141019T030000
END:DAYLIGHT
BEGIN:STANDARD
TZOFFSETFROM:-0200
TZOFFSETTO:-0300
TZNAME:-03
DTSTART:20150222T020000
END:STANDARD
BEGIN:DAYLIGHT
TZOFFSETFROM:-0300
TZOFFSETTO:-0200
TZNAME:-02
DTSTART:20151018T030000
END:DAYLIGHT
BEGIN:STANDARD
TZOFFSETFROM:-0200
TZOFFSETTO:-0300
TZNAME:-03
DTSTART:20160221T020000
END:STANDARD
BEGIN:DAYLIGHT
TZOFFSETFROM:-0300
TZOFFSETTO:-0200
TZNAME:-02
DTSTART:20161016T030000
END:DAYLIGHT
END:VTIMEZONE
BEGIN:VEVENT
DTSTART;TZID=America/Sao_Paulo:20150908T170000
DTEND;TZID=America/Sao_Paulo:20150908T193000
DTSTAMP:20260424T090223
CREATED:20150905T151200Z
LAST-MODIFIED:20240712T152040Z
UID:25658-1441731600-1441740600@portalclubedeengenharia.org.br
SUMMARY:Seminários Comemorativos de 50 Anos de Pós-Graduação em Engenharia Civil - PUC-RJ
DESCRIPTION:Em continuidade ao programa de comemoração dos 50 anos da Pós-Graduação em Engenharia Civil da PUC-Rio\, a ABMS e a ANE convidam para o seminário da próxima terça-feira\, dia 08 de setembro de 2015\, às 17h\, na sala 154-L (PUC-Rio)  \nPalestrante: Eng. Francis Bogossian\, Presidente do Clube de Engenharia\, Vice-Presidente da ANE e ex-Presidente da ABMS. \n– O Estado da Arte na Geotecnia Offshore. \nResumo:  será apresentado um resumo histórico da evolução dos estudos da Engenharia em projetos geotécnicos offshore\, desde os anos 1970. \nEntrada livre\, não é necessária inscrição prévia.
URL:https://portalclubedeengenharia.org.br/evento/seminarios-comemorativos-de-50-anos-de-pos-graduacao-em-engenharia-civil-puc-rj/
END:VEVENT
END:VCALENDAR