BEGIN:VCALENDAR
VERSION:2.0
PRODID:-//Clube de Engenharia - ECPv6.15.16//NONSGML v1.0//EN
CALSCALE:GREGORIAN
METHOD:PUBLISH
X-WR-CALNAME:Clube de Engenharia
X-ORIGINAL-URL:https://portalclubedeengenharia.org.br
X-WR-CALDESC:Eventos para Clube de Engenharia
REFRESH-INTERVAL;VALUE=DURATION:PT1H
X-Robots-Tag:noindex
X-PUBLISHED-TTL:PT1H
BEGIN:VTIMEZONE
TZID:America/Sao_Paulo
BEGIN:STANDARD
TZOFFSETFROM:-0200
TZOFFSETTO:-0300
TZNAME:-03
DTSTART:20110220T020000
END:STANDARD
BEGIN:DAYLIGHT
TZOFFSETFROM:-0300
TZOFFSETTO:-0200
TZNAME:-02
DTSTART:20111016T030000
END:DAYLIGHT
BEGIN:STANDARD
TZOFFSETFROM:-0200
TZOFFSETTO:-0300
TZNAME:-03
DTSTART:20120226T020000
END:STANDARD
BEGIN:DAYLIGHT
TZOFFSETFROM:-0300
TZOFFSETTO:-0200
TZNAME:-02
DTSTART:20121021T030000
END:DAYLIGHT
BEGIN:STANDARD
TZOFFSETFROM:-0200
TZOFFSETTO:-0300
TZNAME:-03
DTSTART:20130217T020000
END:STANDARD
BEGIN:DAYLIGHT
TZOFFSETFROM:-0300
TZOFFSETTO:-0200
TZNAME:-02
DTSTART:20131020T030000
END:DAYLIGHT
END:VTIMEZONE
BEGIN:VEVENT
DTSTART;TZID=America/Sao_Paulo:20121107T130000
DTEND;TZID=America/Sao_Paulo:20121110T210000
DTSTAMP:20260421T075908
CREATED:20121106T163300Z
LAST-MODIFIED:20240712T151811Z
UID:25161-1352293200-1352581200@portalclubedeengenharia.org.br
SUMMARY:Senge-RJ mobiliza engenheiros na Feira Construir
DESCRIPTION:Conheça\, no estande C07\, as vitórias do Senge-RJ em defesa do Salário Mínimo Profissional e as ações jurídicas que garantem os interesses da categoria. \nEm um mundo com mudanças aceleradas nas relações de trabalho\, com a urgente necessidade de reavaliar a teoria e a prática profissional\, o Sindicato dos Engenheiros no Estado do Rio de Janeiro (Senge – RJ)\, em parceria com o Crea-RJ e a Mútua\, traz para a 17ª edição da Construir Rio – Feira Internacional da Construção (estande C 07)\, entre outras bandeiras vitoriosas\, uma história de lutas em defesa do Salário Mínimo Profissional. \nCom ações dirigidas principalmente aos engenheiros e estudantes de engenharia\, com entrada gratuita e aberta a um público que\, em 2011\, ultrapassou a marca de 60 mil visitantes e 300 empresas expositoras\, o Senge-RJ vem aumentando sua participação em grandes eventos direcionados ao seu público-alvo. \nOs objetivos marcam sua trajetória em 81 anos de história: afirmar direitos; investir na formação profissional e divulgar os serviços que atendem às demandas da categoria. \nENGENHEIRO NÃO DEIXE DE VISITAR O ESTANDE DO SENGE-RJ. A CASA É SUA! \nDias: De quarta-feira\, 7 de novembro\, a sábado\, 10 de novembro de 2012 Horário: de 13 ás 21horas. Local: Riocentro (Avenida Salvador Allende\, 6555\, Barra da Tijuca). Mais informações: Sindicato dos Engenheiros no Estado do Rio de Janeiro (Senge-RJ) Site: www.sengerj.org.br Av. Rio Branco 277\, 17° andar – Centro – Rio de Janeiro/RJ – Brasil – CEP:20040-009 \n  \n 
URL:https://portalclubedeengenharia.org.br/evento/senge-rj-mobiliza-engenheiros-na-feira-construir/
END:VEVENT
END:VCALENDAR