BEGIN:VCALENDAR
VERSION:2.0
PRODID:-//Clube de Engenharia - ECPv6.15.16//NONSGML v1.0//EN
CALSCALE:GREGORIAN
METHOD:PUBLISH
X-WR-CALNAME:Clube de Engenharia
X-ORIGINAL-URL:https://portalclubedeengenharia.org.br
X-WR-CALDESC:Eventos para Clube de Engenharia
REFRESH-INTERVAL;VALUE=DURATION:PT1H
X-Robots-Tag:noindex
X-PUBLISHED-TTL:PT1H
BEGIN:VTIMEZONE
TZID:America/Sao_Paulo
BEGIN:STANDARD
TZOFFSETFROM:-0200
TZOFFSETTO:-0300
TZNAME:-03
DTSTART:20150222T020000
END:STANDARD
BEGIN:DAYLIGHT
TZOFFSETFROM:-0300
TZOFFSETTO:-0200
TZNAME:-02
DTSTART:20151018T030000
END:DAYLIGHT
BEGIN:STANDARD
TZOFFSETFROM:-0200
TZOFFSETTO:-0300
TZNAME:-03
DTSTART:20160221T020000
END:STANDARD
BEGIN:DAYLIGHT
TZOFFSETFROM:-0300
TZOFFSETTO:-0200
TZNAME:-02
DTSTART:20161016T030000
END:DAYLIGHT
BEGIN:STANDARD
TZOFFSETFROM:-0200
TZOFFSETTO:-0300
TZNAME:-03
DTSTART:20170219T020000
END:STANDARD
BEGIN:DAYLIGHT
TZOFFSETFROM:-0300
TZOFFSETTO:-0200
TZNAME:-02
DTSTART:20171015T030000
END:DAYLIGHT
END:VTIMEZONE
BEGIN:VEVENT
DTSTART;TZID=America/Sao_Paulo:20161207T183000
DTEND;TZID=America/Sao_Paulo:20161207T203000
DTSTAMP:20260425T232831
CREATED:20161121T192700Z
LAST-MODIFIED:20240712T152208Z
UID:26024-1481135400-1481142600@portalclubedeengenharia.org.br
SUMMARY:Um legado para a engenharia
DESCRIPTION:Palestrante:Renato A. Reyes 14 anos de experiência no mercado de Real Estate e há 7 anos atuando como Gerente de Projetos Sênior na Tishman Speyer. Formado pela USU-RJ\, com MBA em Negócios Imobiliários e da Construção Civil pela FGV-RJ. \nConvidada:Suely Bacchereti BuenoDiretora de Engenharia do escritorio JKMF\, desenvolvendo\, principalmente\, a parte de edficações e obras especiais. Presidente da Associação Brasileira de Engenharia e Consultoria Estrutural 2012/2014. Representante da ABECE no Conselho Deliberativo da Associação Brasileira de Normas Técnicas (ABNT).  \nPromoção:Diretoria de Atividades Técnicas – DATDivisão de Estruturas – DES \nServiço:Dia 07/12 às 18h3022º andar do Clube de Engenharia Av. Rio Branco\, 124 – Metrô Estação Carioca
URL:https://portalclubedeengenharia.org.br/evento/um-legado-para-a-engenharia/
ATTACH;FMTTYPE=image/jpeg:https://portalclubedeengenharia.org.br/wp-content/uploads/2024/07/1480523202.jpg
END:VEVENT
END:VCALENDAR