BEGIN:VCALENDAR
VERSION:2.0
PRODID:-//Clube de Engenharia - ECPv6.15.16//NONSGML v1.0//EN
CALSCALE:GREGORIAN
METHOD:PUBLISH
X-WR-CALNAME:Clube de Engenharia
X-ORIGINAL-URL:https://portalclubedeengenharia.org.br
X-WR-CALDESC:Eventos para Clube de Engenharia
REFRESH-INTERVAL;VALUE=DURATION:PT1H
X-Robots-Tag:noindex
X-PUBLISHED-TTL:PT1H
BEGIN:VTIMEZONE
TZID:America/Sao_Paulo
BEGIN:STANDARD
TZOFFSETFROM:-0200
TZOFFSETTO:-0300
TZNAME:-03
DTSTART:20160221T020000
END:STANDARD
BEGIN:DAYLIGHT
TZOFFSETFROM:-0300
TZOFFSETTO:-0200
TZNAME:-02
DTSTART:20161016T030000
END:DAYLIGHT
BEGIN:STANDARD
TZOFFSETFROM:-0200
TZOFFSETTO:-0300
TZNAME:-03
DTSTART:20170219T020000
END:STANDARD
BEGIN:DAYLIGHT
TZOFFSETFROM:-0300
TZOFFSETTO:-0200
TZNAME:-02
DTSTART:20171015T030000
END:DAYLIGHT
BEGIN:STANDARD
TZOFFSETFROM:-0200
TZOFFSETTO:-0300
TZNAME:-03
DTSTART:20180218T020000
END:STANDARD
BEGIN:DAYLIGHT
TZOFFSETFROM:-0300
TZOFFSETTO:-0200
TZNAME:-02
DTSTART:20181104T030000
END:DAYLIGHT
END:VTIMEZONE
BEGIN:VEVENT
DTSTART;TZID=America/Sao_Paulo:20170408T210000
DTEND;TZID=America/Sao_Paulo:20170409T140000
DTSTAMP:20260420T042909
CREATED:20170311T001800Z
LAST-MODIFIED:20240712T152223Z
UID:26098-1491685200-1491746400@portalclubedeengenharia.org.br
SUMMARY:Workshop de foguete - Propulsão e operação
DESCRIPTION:O workshop\, com a relização do Grupo de Foguetes do Rio de Janeiro (GFRJ)\, pretende trazer à cidade o engenheiro Calvin Trubiene\, vice-diretor técnico da associação Competição Brasileira Universitária de Foguetes (COBRUF). O evento focará na propulsão e operação das tecnologias. \nO workshop acontecerá dividido em dois dias: 08 e 09 de abril. O objetivo do primeiro dia é criar referências conceituais teóricas\, com a palestra\, na sede social do Clube\, de Calvin Trubiene. O segundo dia de workshop acontecerá na Unidade Zona Oeste (antiga Sede Campestre)\, e será uma atividade prática de manipulação e confecção de um segmento propelente sólido. Participarão do Workshop membros de grupos de foguetes da Universidade do Estado do Rio de Janeiro (UERJ)\, Universidade Federal do Rio de Janeiro (UFRJ)\, Instituto Militar de Engenharia (IME)\, CEFET-RJ\, Pontifícia Universidade Católica (PUC-Rio) e Universidade Federal Fluminense (UFF) dos campus de Volta Redonda e de Niterói\, e estudantes de um grupo de articulação do assunto na Universidade Federal Rural do Rio de Janeiro (UFRRJ). \nEvento fechado para membros da SAE articulados nos grupos de foguetes. \nApoio:Olimpíada Brasileira de Astronomia – OBA \nServiço – primeiro dia:Dia 08/04 das 09h às 18h22º andar do Clube de Engenharia Av. Rio Branco\, 124 – Metrô Estação Carioca \nServiço – segundo dia:Dia 09/04 às 10hUnidade Zona OesteEstrada da Ilha\, 241\, Ilha de Guaratiba
URL:https://portalclubedeengenharia.org.br/evento/workshop-de-foguete-propulsao-e-operacao/
ATTACH;FMTTYPE=image/jpeg:https://portalclubedeengenharia.org.br/wp-content/uploads/2024/07/1491332325.jpg
END:VEVENT
END:VCALENDAR