BEGIN:VCALENDAR
VERSION:2.0
PRODID:-//Clube de Engenharia - ECPv6.15.16//NONSGML v1.0//EN
CALSCALE:GREGORIAN
METHOD:PUBLISH
X-WR-CALNAME:Clube de Engenharia
X-ORIGINAL-URL:https://portalclubedeengenharia.org.br
X-WR-CALDESC:Eventos para Clube de Engenharia
REFRESH-INTERVAL;VALUE=DURATION:PT1H
X-Robots-Tag:noindex
X-PUBLISHED-TTL:PT1H
BEGIN:VTIMEZONE
TZID:America/Sao_Paulo
BEGIN:STANDARD
TZOFFSETFROM:-0300
TZOFFSETTO:-0300
TZNAME:-03
DTSTART:20230101T000000
END:STANDARD
END:VTIMEZONE
BEGIN:VEVENT
DTSTART;TZID=America/Sao_Paulo:20240821T180000
DTEND;TZID=America/Sao_Paulo:20240828T220000
DTSTAMP:20260424T083724
CREATED:20240627T173654Z
LAST-MODIFIED:20240725T101146Z
UID:11326-1724263200-1724882400@portalclubedeengenharia.org.br
SUMMARY:Perícias em Incêndios e Explosões
DESCRIPTION:O IBAPE-RJ está divulgando os cursos programados para os próximos meses. \nAs inscrições estão abertas\, mas as vagas são limitadas! \nPerícias em Incêndios e Explosões\n21 e 28 de agosto de 2024\nApresentar aspectos básicos e informações técnicaspara elaboração de perícias em casos de incêndios e explosões. \nCurso ministrado na modalidade online pelo Eng° Civil: Bruno Polycarpo Palmerim Dias \n21 e 28 de agosto de 2024\n18h às 22h \nInformações e inscrições:\nwww.ibape-rj.org.br\ncontato@ibape-ri.org.br\n(21) 98868-8669 \n  \nLembre-se de anotar o código 22 (Clube de Engenharia) no campo de entidade de classe da sua ART no CREA-RJ
URL:https://portalclubedeengenharia.org.br/evento/pericias-em-incendios-e-explosoes/
LOCATION:Ibape – RJ\, Av. Rio Branco\, 173\, sala 402\, Rio de Janeiro
CATEGORIES:Externo
ATTACH;FMTTYPE=image/jpeg:https://portalclubedeengenharia.org.br/wp-content/uploads/2024/06/pericias-em-incendios-e-explosoes-pericias-em-incendios-e-explosoes.jpg
END:VEVENT
BEGIN:VEVENT
DTSTART;TZID=America/Sao_Paulo:20240823T160000
DTEND;TZID=America/Sao_Paulo:20240823T180000
DTSTAMP:20260424T083724
CREATED:20240821T162146Z
LAST-MODIFIED:20240821T164443Z
UID:32738-1724428800-1724436000@portalclubedeengenharia.org.br
SUMMARY:Evento marca os 70 anos da morte de Getúlio Vargas
DESCRIPTION:A Associação Brasileira de Imprensa (ABI) vai realizar no próximo dia 23 de agosto\, sexta-feira\, o evento “O Legado de Vargas” para lembrar os 70 anos da morte do Presidente Getúlio Vargas.\nO ato contará com a presença de familiares\, historiadores\, economistas\, lideranças partidárias e sindicalistas.\nA homenagem ao Presidente de Honra da ABI\, Getúlio Vargas\, acontecerá no auditório do 9º andar da sede da ABI\, na Rua Araújo Porto Alegre\, 71\, Centro\, Rio de Janeiro \nO evento é aberto ao público e gratuito.
URL:https://portalclubedeengenharia.org.br/evento/evento-marca-os-70-anos-da-morte-de-getulio-vargas/
LOCATION:ABI\, Rua Araújo Porto Alegre\, 71 - Centro\, Rio de Janeiro
CATEGORIES:Externo
ATTACH;FMTTYPE=image/jpeg:https://portalclubedeengenharia.org.br/wp-content/uploads/2024/08/imagem-do-whatsapp-de-2024-08-21-as-11.54.46-fd065ef7.jpg
END:VEVENT
END:VCALENDAR