BEGIN:VCALENDAR
VERSION:2.0
PRODID:-//Clube de Engenharia - ECPv6.15.16//NONSGML v1.0//EN
CALSCALE:GREGORIAN
METHOD:PUBLISH
X-ORIGINAL-URL:https://portalclubedeengenharia.org.br
X-WR-CALDESC:Eventos para Clube de Engenharia
REFRESH-INTERVAL;VALUE=DURATION:PT1H
X-Robots-Tag:noindex
X-PUBLISHED-TTL:PT1H
BEGIN:VTIMEZONE
TZID:America/Sao_Paulo
BEGIN:STANDARD
TZOFFSETFROM:-0300
TZOFFSETTO:-0300
TZNAME:-03
DTSTART:20230101T000000
END:STANDARD
END:VTIMEZONE
BEGIN:VEVENT
DTSTART;TZID=America/Sao_Paulo:20240905T190000
DTEND;TZID=America/Sao_Paulo:20240905T200000
DTSTAMP:20260420T111318
CREATED:20240904T123402Z
LAST-MODIFIED:20240905T140504Z
UID:32858-1725562800-1725566400@portalclubedeengenharia.org.br
SUMMARY:A Pedra Carioca Patrimônio Mundial - Gnaisse Facoidal
DESCRIPTION:A Pedra Carioca Patrimônio Mundial – Gnaisse Facoidal\nA Rocha das Montanhas e da Arquitetura Urbana do Rio de Janeiro \nJunte-se a nós nesta quinta-feira (05/09)\, às 19h\, para uma mesa redonda imperdível\, onde exploraremos o Gnaisse Facoidal\, a “Pedra Mais Carioca”\, recentemente reconhecida como “Pedra do Patrimônio Mundial” pela IUGS. Descubra como essa rocha singular moldou as paisagens e a arquitetura do Rio de Janeiro\, consolidando sua importância geológica\, econômica e cultural. \n \nPalestrantes:\n– Katia Mansur\, Geóloga – UFRJ\n– Nuria Fernandez Castro\, Engenheira de Minas – CETEM \nModeradores:\n– Catherine Gallois\, Arquiteta – UFF | IPHAN\n– Renato Ramos\, Geólogo – APG-RJ | Museu Nacional UFRJ\n– Teresa Garcia\, Jornalista – SBT News \nCoordenação: \n– Caroline Dutra\, ABMGeo\n– Marco Latgé\, Clube de Engenharia | SBG-RJ/ES \nRealização: \nClube de Engenharia\, ABMGeo\, SBG-RJ/ES\, APG-RJ \nNão perca essa oportunidade de mergulhar na história e nas características dessa rocha icônica que agora brilha no cenário global. Ative o lembrete e participe! \nLink do evento: [https://www.youtube.com/watch?v=pmpQLS091ks]
URL:https://portalclubedeengenharia.org.br/evento/32858/
LOCATION:Rio de Janeiro
CATEGORIES:Interno
ATTACH;FMTTYPE=image/jpeg:https://portalclubedeengenharia.org.br/wp-content/uploads/2023/06/bondinho-do-pao-de-acucar-by-diego-baravelli-1.jpg
END:VEVENT
END:VCALENDAR