BEGIN:VCALENDAR
VERSION:2.0
PRODID:-//Clube de Engenharia - ECPv6.15.16//NONSGML v1.0//EN
CALSCALE:GREGORIAN
METHOD:PUBLISH
X-ORIGINAL-URL:https://portalclubedeengenharia.org.br
X-WR-CALDESC:Eventos para Clube de Engenharia
REFRESH-INTERVAL;VALUE=DURATION:PT1H
X-Robots-Tag:noindex
X-PUBLISHED-TTL:PT1H
BEGIN:VTIMEZONE
TZID:America/Sao_Paulo
BEGIN:STANDARD
TZOFFSETFROM:-0300
TZOFFSETTO:-0300
TZNAME:-03
DTSTART:20230101T000000
END:STANDARD
END:VTIMEZONE
BEGIN:VEVENT
DTSTART;TZID=America/Sao_Paulo:20240909T180000
DTEND;TZID=America/Sao_Paulo:20240909T210000
DTSTAMP:20260420T111356
CREATED:20240905T181604Z
LAST-MODIFIED:20240905T193312Z
UID:32957-1725904800-1725915600@portalclubedeengenharia.org.br
SUMMARY:Nova diretoria do Clube de Engenharia toma posse na segunda-feira\, dia 9 de setembro
DESCRIPTION:A nova diretoria eleita para gerir o Clube de Engenharia no triênio 2024/2027 tomará posse na próxima segunda-feira\, dia 9 de setembro\, às 18 horas. A solenidade ocorrerá na sede social\, situada à Avenida Rio Branco 124 – 25º andar. O novo presidente é Francis Bogossian\, que já presidiu a entidade durante dois mandatos\, entre 2009 e 2015. Junto com ele serão empossados o primeiro vice-presidente Fernando Peregrino e a segunda vice-presidente\, Olga Simbalista\, além da Diretoria\, Conselhos Fiscal e Diretor. \nFrancis Bogossian conclama todos os conselheiros e sócios a se unirem em prol das causas defendidas pelo Clube\, principalmente colaborando com propostas que ajudem na retomada do desenvolvimento nacional: “O que nós prometemos e vamos querer abraçar é a defesa da soberania nacional e a importância da engenharia na retomada do desenvolvimento da nação brasileira”. \n 
URL:https://portalclubedeengenharia.org.br/evento/nova-diretoria-do-clube-de-engenharia-toma-posse-na-segunda-feira-dia-9-de-setembro/
LOCATION:Clube de Engenharia\, Avenida Rio Branco\, 124\, Rio de Janeiro\, Rio de Janeiro\, 20040001
CATEGORIES:Eventos,Eventos do Clube
ATTACH;FMTTYPE=image/jpeg:https://portalclubedeengenharia.org.br/wp-content/uploads/2024/09/whatsapp-image-2024-09-04-at-1.50.29-pm.jpeg
ORGANIZER;CN="Clube de Engenharia":MAILTO:atendimento@clubedeengenharia.org.br
END:VEVENT
END:VCALENDAR