BEGIN:VCALENDAR
VERSION:2.0
PRODID:-//Clube de Engenharia - ECPv6.15.16//NONSGML v1.0//EN
CALSCALE:GREGORIAN
METHOD:PUBLISH
X-ORIGINAL-URL:https://portalclubedeengenharia.org.br
X-WR-CALDESC:Eventos para Clube de Engenharia
REFRESH-INTERVAL;VALUE=DURATION:PT1H
X-Robots-Tag:noindex
X-PUBLISHED-TTL:PT1H
BEGIN:VTIMEZONE
TZID:America/Sao_Paulo
BEGIN:STANDARD
TZOFFSETFROM:-0300
TZOFFSETTO:-0300
TZNAME:-03
DTSTART:20230101T000000
END:STANDARD
END:VTIMEZONE
BEGIN:VEVENT
DTSTART;TZID=America/Sao_Paulo:20241003T120000
DTEND;TZID=America/Sao_Paulo:20241003T140000
DTSTAMP:20260420T125845
CREATED:20240912T020610Z
LAST-MODIFIED:20240913T185411Z
UID:33143-1727956800-1727964000@portalclubedeengenharia.org.br
SUMMARY:Almoço em Homenagem aos aniversariantes de setembro
DESCRIPTION:O Almoço em Homenagem aos aniversariantes do mês de setembro será realizado no dia 03 de outubro (quinta-feira). \nMarque na agenda e venha participar conosco! \nPague pelo pix através do link. \nOu digite a chave PIX (CNPJ): 33489469000195 no aplicativo do seu banco. \nEnvie seu comprovante para o WhatsApp : 99719-2360 \n 
URL:https://portalclubedeengenharia.org.br/evento/almoco-em-homenagem-aos-aniversariantes-de-setembro/
LOCATION:Av. Rio Branco\, 124 – 24° andar – Salão Nobre – Edifício Edison Passos\, Av. Rio Branco\, 124 - 24° andar - Salão Nobre - Edifício Edison Passos\, Rio de Janeiro\, Rio de Janeiro\, Brasil
CATEGORIES:Interno
ATTACH;FMTTYPE=image/jpeg:https://portalclubedeengenharia.org.br/wp-content/uploads/2024/09/almoco-em-homenagem-aos-aniversariantes-de-setembro-almoco-em-homenagem-aos-aniversariantes-de-setembro.jpg
ORGANIZER;CN="Clube de Engenharia":MAILTO:atendimento@clubedeengenharia.org.br
END:VEVENT
END:VCALENDAR