BEGIN:VCALENDAR
VERSION:2.0
PRODID:-//Clube de Engenharia - ECPv6.15.16//NONSGML v1.0//EN
CALSCALE:GREGORIAN
METHOD:PUBLISH
X-ORIGINAL-URL:https://portalclubedeengenharia.org.br
X-WR-CALDESC:Eventos para Clube de Engenharia
REFRESH-INTERVAL;VALUE=DURATION:PT1H
X-Robots-Tag:noindex
X-PUBLISHED-TTL:PT1H
BEGIN:VTIMEZONE
TZID:America/Sao_Paulo
BEGIN:STANDARD
TZOFFSETFROM:-0300
TZOFFSETTO:-0300
TZNAME:-03
DTSTART:20230101T000000
END:STANDARD
END:VTIMEZONE
BEGIN:VEVENT
DTSTART;TZID=America/Sao_Paulo:20241105T180000
DTEND;TZID=America/Sao_Paulo:20241107T220000
DTSTAMP:20260420T142344
CREATED:20240807T100520Z
LAST-MODIFIED:20240808T123737Z
UID:32606-1730829600-1731016800@portalclubedeengenharia.org.br
SUMMARY:Engenharia de Custos
DESCRIPTION:Objetivo \nApresentar conceitos e elementos básicos e essenciais de orçamentos de engenharia\, \ncomposição de preços e BDI. \nPúblico-Alvo \nArquitetos\, Engenheiros e demais profissionais de 3º grau com registro no CAU e/ou no \nCREA. \nCarga horária \n12 horas \nLocal\, datas e horário \nO curso será realizado na modalidade on-line\, ao vivo\, nos dias 5\, 6 e 7 de novembro de \n2024\, das 18h às 22h. \nPrograma \n▪ Elementos Básicos do Orçamento de Engenharia \n▪ Composição Analítica de Preços Unitários \n▪ Composições de Encargos Sociais e Complementares \n▪ Levantamento de Índices de Produtividade e Consumo \n▪ Levantamento de Quantidades e Serviços \n▪ Critério de Medição e Remuneração \n▪ Definições e Composições de BDI \n▪ Referências Orçamentárias \n▪ Aplicações da Engenharia de Custos \n▪ Tópicos Especiais \nInstrutor \nRicardo Alexandre Gois Ferreira \nEngenheiro Civil\, Pós-Graduado em Engenharia de Custos\, em Finanças e em Auditoria\, \nAvaliações e Perícias de Engenharia\, Diretor da Verko Engenharia\, Diretor Administrativo \nda AACE\, Diretor de Relações com Associados do IBAPE-DF \nMaterial Didático \nO material do curso e o certificado de participação serão fornecidos em arquivos \neletrônicos.Inscrições \nIBAPE-RJ: contato@ibape-rj.org.br / (21) 98868-8669 / (21) 2224-4338 \nO atendimento telefônico e o envio de respostas às mensagens eletrônicas serão \nrealizados\, exclusivamente\, em dias úteis\, no horário de atendimento do IBAPE-RJ: \n2a feira: 13h às 19h \n3a\, 4a e 5a feira: 9h às 12h – 13h às 19h \n6a feira: 9h às 15h \nDados para inscrição \nNome: \nFormação: \nIdentidade e/ou \nReg. Prof. (CREA/CAU): \nCPF: \nEndereço: \nBairro: Cidade: CEP: \nTel.: E-mail: \nPreenchimento obrigatório de todos os dados \nInformações adicionais e Condições \nAs vagas são limitadas. \nAs inscrições se encerram na data-limite de 31/10/2024. \nExcepcionalmente\, desde que existam vagas disponíveis\, serão aceitas inscrições após a \ndata-limite. \nA data-limite não garante a disponibilidade de vagas\, sendo recomendável a efetivação \nda inscrição com antecedência. \nO curso é ministrado à turma aberta\, formada por adesão de interessados\, dependendo \nda inscrição de um número mínimo de participantes para sua realização. Na hipótese de \nquórum insuficiente\, impossibilidade de comparecimento dos professores ou outros \nimprevistos\, a Coordenação do curso se reserva o direito de cancelar o curso. \nNa hipótese de cancelamento\, os inscritos serão avisados\, através de mensagem \neletrônica. \nEm caso de cancelamento\, haverá reembolso integral do valor pago. \nNo caso de remanejamento de data do início do curso\, a Coordenação\, mediante \nsolicitação do inscrito\, poderá cancelar sua inscrição e fazer o reembolso integral do \nvalor pago.As confirmações de inscrição serão enviadas\, por mensagem eletrônica. \nSem prejuízo da confirmação enviada por mensagem eletrônica\, recomenda-se que o \ninscrito entre em contato para confirmar a realização do curso. \nToda e qualquer comunicação a respeito do curso será encaminhada\, somente\, através \nde mensagens eletrônicas\, razão pela qual o participante deve manter seu cadastro \natualizado. \nO certificado será concedido ao participante que obtiver 75% da frequência. \nNa hipótese de desistência\, o cancelamento da inscrição deverá ser solicitado através de \ncomunicação enviada por mensagem eletrônica para o IBAPE-RJ\, estando sujeito às \nseguintes condições: \na) o inscrito poderá solicitar o cancelamento da inscrição até 7 (sete) dias antes do início \ndo curso\, havendo nesse caso a devolução integral do valor pago; \nb) nos casos de cancelamentos solicitados após esse prazo ou de não comparecimento \nsem comunicação à Coordenação do curso\, não haverá devolução do valor pago. \nEste é um curso de atualização profissional e\, portanto\, não amplia as atribuições \nprofissionais dos participantes\, devendo as atividades relacionadas aos temas abordados \nno curso se restringirem às atribuições profissionais já discriminadas nos respectivos \nregistros nos Conselhos Profissionais. \nInvestimento \n\n \n  \nO valor para “Associados IBAPE” é extensivo aos associados dos IBAPEs de qualquer \nunidade federativa. \nAs inscrições somente estarão confirmadas mediante pagamento. \nO valor promocional é assegurado\, somente\, para pagamentos efetuados até o dia \n25/09/2024. Solicitações de inscrição realizadas até 25/09/2024 sem efetivação de \npagamento até essa data não gozarão do benefício do valor promocional. \nObs.: É considerado associado a entidade parceira\, para efeitos de concessão de \ndescontos nos cursos e eventos realizados no IBAPE-RJ\, os associados\, inscritos ou \nfiliados a entidades/instituições que\, comprovadamente\, tenham divulgado o respectivo \ncurso ou evento em data anterior à inscrição. \nCondições para os cursos à distância \nAs aulas serão transmitidas ao vivo\, com possibilidade de interação com o professor e os \ndemais participantes\, da mesma forma que na modalidade presencial.Não haverá gravação das aulas para acesso posterior. \nSerá feito o registro de presença\, para fins de emissão de certificados. \nAs aulas serão transmitidas pela ferramenta Zoom. \nO cadastro gratuito no Zoom pode ser realizado no site: https://zoom.us/signup\, que \npermite acesso por computador e por celular. \nÉ necessário estar cadastrado no Zoom\, com o nome completo\, para que a presença nas \naulas seja identificada e registrada e o ingresso à sala virtual seja liberado. \nPara acesso às aulas\, o participante deverá fazer o login no aplicativo e informar o ID e a \nsenha que serão encaminhados na ocasião da confirmação da inscrição no curso. \nSomente usuários identificados com a inscrição confirmada terão o ingresso permitido na \nsala de aula virtual. \nRecomenda-se que os participantes ingressem na “sala de aula virtual” 10 minutos antes \ndo horário indicado para o início da aula. \nO acesso ao aplicativo deverá ser realizado com o microfone e a câmera desligados. \nPreferencialmente\, os microfones deverão ser mantidos desligados durante as aulas\, \npara que não haja interferências de sons externos. \nDúvidas ou comentários poderão ser enviados\, durante o período de aulas\, pelo chat do \naplicativo\, que será acompanhado pela coordenação do curso. O professor informará\, no \ninício do curso\, as condições para intervenções ao vivo dos participantes. \nO IBAPE-RJ não se responsabiliza por problemas técnicos de internet ou equipamentos \ndos participantes. \nO participante que ainda não souber como fazer o acesso à sala virtual ou tiver dúvidas \nsobre como fazê-lo\, deverá fazer contato com a secretaria do IBAPE-RJ\, no horário de \natendimento informado no item “Inscrições”\, ou com a coordenação do curso\, pelo \nendereço eletrônico dirtec@ibape-rj.org.br\, para as orientações necessárias\, até o dia \nanterior à primeira aula. \nTodo o conteúdo apresentado no curso e/ou disponibilizado aos participantes\, tais como \napostilas\, vídeos\, slides\, imagens\, desenhos\, textos\, é de propriedade e responsabilidade \nexclusiva do professor\, protegido por lei\, não sendo permitidas cópias ou reproduções. \nIBAPE-RJ – Instituto Brasileiro de Avaliações e Perícias de Engenharia \ndo Estado do Rio de Janeiro \nAv. Rio Branco\, 173 / 4º pavimento\, Centro\, Rio de Janeiro\, RJ\, CEP 20.040-007 \nSite: http://ibape-rj.org.br \nFacebook: @ibaperj \nLinkedIn: www.linkedin.com/company/ibape-rj \nInstagram: instagram.com/ibaperj \nYouTube: youtube.com/ibaperj \nTelefones: (21) 2224-4338 / (21) 98868-8669 \nWhatsApp: (21) 98868-8669
URL:https://portalclubedeengenharia.org.br/evento/engenharia-de-custos/
LOCATION:ZOOM
CATEGORIES:Externo,Eventos,Outros Eventos
ATTACH;FMTTYPE=image/jpeg:https://portalclubedeengenharia.org.br/wp-content/uploads/2024/08/captura-de-tela-2024-08-07-as-7.01.26am.jpg
END:VEVENT
END:VCALENDAR