BEGIN:VCALENDAR
VERSION:2.0
PRODID:-//Clube de Engenharia - ECPv6.15.16//NONSGML v1.0//EN
CALSCALE:GREGORIAN
METHOD:PUBLISH
X-ORIGINAL-URL:https://portalclubedeengenharia.org.br
X-WR-CALDESC:Eventos para Clube de Engenharia
REFRESH-INTERVAL;VALUE=DURATION:PT1H
X-Robots-Tag:noindex
X-PUBLISHED-TTL:PT1H
BEGIN:VTIMEZONE
TZID:America/Sao_Paulo
BEGIN:STANDARD
TZOFFSETFROM:-0300
TZOFFSETTO:-0300
TZNAME:-03
DTSTART:20230101T000000
END:STANDARD
END:VTIMEZONE
BEGIN:VEVENT
DTSTART;TZID=America/Sao_Paulo:20241129T100000
DTEND;TZID=America/Sao_Paulo:20241129T100000
DTSTAMP:20260420T141117
CREATED:20241125T164416Z
LAST-MODIFIED:20241125T164444Z
UID:34026-1732874400-1732874400@portalclubedeengenharia.org.br
SUMMARY:Por que Engenharia?
DESCRIPTION:A Coppe/UFRJ convida a todos\, em especial alunos do ensino médio e de graduação a conhecerem alguns de seus projetos mais emblemáticos que serão apresentados ao longo da série “Por que Engenharia?“. \nNa primeira palestra da série\, o tema será o inovador projeto MagLev-Cobra\, o primeiro veículo no mundo a transportar passageiros utilizando a tecnologia de levitação magnética por supercondutividade — uma alternativa revolucionária de transporte urbano.  \nNesse encontro\, os participantes conhecerão também as equipes Minerva Icarus (carro de competição) e Minerva Aeroespacial (foguetes e satélites)\, formadas por alunos da Escola Politécnica (Escola Politécnica da UFRJ) e outras unidades da UFRJ\,  que vão mostrar como colocam em prática os aprendizados dos cursos de engenharia. Não perca!  \nA série “Por que Engenharia?” se inspira nas renomadas Christmas Lectures da The Royal Institution\, do Reino Unido\, que desde 1825 têm levado ciência e inovação ao público em geral. Essas palestras têm como objetivo tornar a ciência acessível e interessante\, especialmente para os jovens. Seguindo essa tradição\, a série da Coppe visa incentivar os estudantes\, especialmente os de escolas públicas\, a se interessarem pelas carreiras STEM (Ciências\, Tecnologia\, Engenharia e Matemática).  \n“Quem sabe nossas palestras também se tornem uma tradição\, motivando os alunos a escolherem a Engenharia e a verem que não é preciso ir longe\, que desenvolvemos aqui na Coppe/UFRJ projetos de impacto internacional”\, afirma o vice-diretor da Coppe\, professor Marcello Campos. \nDia 29 de novembro\, às 10h\, no auditório da Coppe (sala G-122\, Centro de Tecnologia da UFRJ).  \nInscrições via Sympla: https://www.Sympla.com.br/evento/por-que-engenharia-o-projeto-maglev-cobra/2699606?share_id=copiarlink&referrer=lnkd.in \, com emissão de certificado aos interessados. \nSaiba mais sobre evento: https://lnkd.in/ditAbGxx
URL:https://portalclubedeengenharia.org.br/evento/por-que-engenharia/
LOCATION:Centro de Tecnologia da UFRJ\, Avenida Athos da Silveira Ramos 149\, 21941-909 Rio de Janeiro Rio de Janeiro\, Brazil
CATEGORIES:Externo,Eventos
ATTACH;FMTTYPE=image/jpeg:https://portalclubedeengenharia.org.br/wp-content/uploads/2024/11/672cd9acf1463-672cd9acf1463-672cd9acf1463-672cd9acf1463.jpg
END:VEVENT
END:VCALENDAR