BEGIN:VCALENDAR
VERSION:2.0
PRODID:-//Clube de Engenharia - ECPv6.15.16//NONSGML v1.0//EN
CALSCALE:GREGORIAN
METHOD:PUBLISH
X-ORIGINAL-URL:https://portalclubedeengenharia.org.br
X-WR-CALDESC:Eventos para Clube de Engenharia
REFRESH-INTERVAL;VALUE=DURATION:PT1H
X-Robots-Tag:noindex
X-PUBLISHED-TTL:PT1H
BEGIN:VTIMEZONE
TZID:America/Sao_Paulo
BEGIN:STANDARD
TZOFFSETFROM:-0300
TZOFFSETTO:-0300
TZNAME:-03
DTSTART:20230101T000000
END:STANDARD
END:VTIMEZONE
BEGIN:VEVENT
DTSTART;TZID=America/Sao_Paulo:20241208T070000
DTEND;TZID=America/Sao_Paulo:20241208T170000
DTSTAMP:20260420T154624
CREATED:20241125T182506Z
LAST-MODIFIED:20241125T184855Z
UID:34038-1733641200-1733677200@portalclubedeengenharia.org.br
SUMMARY:Clube de Engenharia apoia 34ª Corrida e Caminhada dos Engenheiros e Arquitetos da SEAERJ
DESCRIPTION:O Clube de Engenharia apoia a realização da 34ª edição da Corrida e Caminhada dos Engenheiros e Arquitetos da SEAERJ. O tradicional evento acontecerá no domingo\, dia 8 de dezembro\, e será realizado no Boulevard Olímpico com um trajeto de 5 km. \nCriada no verão de 1981\, com um percurso inicial de 6 km\, a corrida se consolidou como um marco esportivo da Engenharia e Arquitetura. Em 2024\, o tema será uma homenagem aos 50 anos da Ponte Rio-Niterói. \nClique aqui para mais informações e inscrições! (https://corridaseaerj.com.br/)
URL:https://portalclubedeengenharia.org.br/evento/clube-de-engenharia-apoia-34a-corrida-e-caminhada-dos-engenheiros-e-arquitetos-da-seaerj/
LOCATION:Boulevard Olimpico
CATEGORIES:Externo,Eventos
ATTACH;FMTTYPE=image/jpeg:https://portalclubedeengenharia.org.br/wp-content/uploads/2024/11/9e2f5013-9da2-4254-bf42-04a043ee87bd-9e2f5013-9da2-4254-bf42-04a043ee87bd.jpeg
END:VEVENT
END:VCALENDAR