BEGIN:VCALENDAR
VERSION:2.0
PRODID:-//Clube de Engenharia - ECPv6.15.16//NONSGML v1.0//EN
CALSCALE:GREGORIAN
METHOD:PUBLISH
X-ORIGINAL-URL:https://portalclubedeengenharia.org.br
X-WR-CALDESC:Eventos para Clube de Engenharia
REFRESH-INTERVAL;VALUE=DURATION:PT1H
X-Robots-Tag:noindex
X-PUBLISHED-TTL:PT1H
BEGIN:VTIMEZONE
TZID:America/Sao_Paulo
BEGIN:STANDARD
TZOFFSETFROM:-0300
TZOFFSETTO:-0300
TZNAME:-03
DTSTART:20230101T000000
END:STANDARD
END:VTIMEZONE
BEGIN:VEVENT
DTSTART;TZID=America/Sao_Paulo:20241209T173000
DTEND;TZID=America/Sao_Paulo:20241209T193000
DTSTAMP:20260420T155353
CREATED:20241204T204208Z
LAST-MODIFIED:20241204T204208Z
UID:34400-1733765400-1733772600@portalclubedeengenharia.org.br
SUMMARY:Antônio Gusmão lança livro sobre logística urbana no Clube de Engenharia no dia 9
DESCRIPTION:Autor : Antônio Carlos Sá de Gusmão\nDia: 9 de dezembro\, segunda-feira\nHora : 17h30min\nLocal : Clube de Engenharia – Avenida Rio Branco\, 124/20o andar \n  \nO livro “Diretrizes de Logística Urbana para as Cidades Brasileiras: Fundamentos e Proposições”\, do professor do Departamento de Engenharia Agrícola e Meio Ambiente (TER) da Universidade Federal Fluminense (UFF)\, o engenheiro eletricista Antônio Carlos Sá de Gusmão\, será lançado no Clube de Engenharia na próxima segunda-feira\, dia 9 de dezembro. O evento acontecerá no auditório do 20o andar\, às 17h30min. \nO livro\, que recebeu o selo de “Livro Finalista do Prêmio Jabuti Acadêmico”\, é resultado da tese de doutorado do professor Antônio Gusmão\, apresentada para obtenção do título de Doutor em Engenharia de Transportes no Programa de Engenharia de Transportes do Instituto Alberto Luiz Coimbra de Pós-Graduação e Pesquisa de Engenharia da Universidade Federal do Rio de Janeiro – COPPE/UFRJ. \nCom mais de 40 anos de experiência\, o autor se dedica à pesquisa e estudos em Logística Urbana (City Logistics). Foi professor colaborador no Laboratório de Sistemas Inteligentes de Transportes na COPPE/UFRJ\, no período de março de 2016 a março de 2021\, quando aperfeiçoou sua expertise no assunto. \nGusmão diz que o objetivo do livro foi contribuir com o setor\, por meio da proposição das diretrizes\, e preencher uma lacuna\, ainda existente\, de publicações específicas na área de Logística Urbana\, especialmente no Brasil\, no que concerne a diretrizes para a eficiência da distribuição de mercadorias nas cidades\, sejam elas\, de grande ou médio porte. \nSegundo a Editora Dialética\, responsável pela publicação do livro\, a pesquisa é relevante para a área de logística e oferece soluções concretas para os desafios enfrentados nos centros urbanos brasileiros\, pois aborda de forma clara e embasada as diretrizes de carga urbana\, considerando aspectos como sustentabilidade e eficiência. \nSobre a Obra\nOs impactos causados por meio do transporte rodoviário na distribuição de mercadorias sobre o sistema viário e de transportes em área urbana merecem uma análise mais apropriada. A concepção Logística Urbana\, que vem sendo empregada em diversas cidades ao redor do mundo com sucesso\, é um campo de conhecimento que tem como objetivo a otimização global das operações logísticas em áreas urbanas e que pode trazer benefícios relevantes na sua prática para as cidades brasileiras. \nNeste contexto\, em que as políticas públicas atuais praticadas no planejamento urbano ainda requerem diretrizes que possibilitem a eficiência da distribuição de mercadorias nas cidades\, o presente livro tem por objetivo contemplar um conjunto de diretrizes\, com base na pesquisa com profissionais da área de transportes\, e que contribuirão para o desenvolvimento da movimentação de carga na área urbana\, levando a um desenvolvimento sustentável das cidades. \nSobre o autor\nPossui graduação em Engenharia Elétrica Modalidade Eletrônica pela Universidade Gama Filho – UGF (1983)\, Extensão em Ciclo de Estudos de Políticas e Estratégia pela Associação dos Diplomados da Escola Superior de Guerra – ADESG/RJ (1987)\, Mestrado em Engenharia de Produção pela Universidade Federal Fluminense – UFF (1994) e Doutorado em Engenharia de Transportes pela Universidade Federal do Rio de Janeiro – UFRJ (2016). \nExerceu as funções de Coordenador do Curso de Graduação em Engenharia de Agronegócios\, de Coordenador de Estágios e de Vice Coordenador do Curso de Engenharia de Produção na Escola de Engenharia de Volta Redonda e de Vice Coordenador do Curso de Graduação em Engenharia de Recursos Hídricos e do Meio Ambiente da Universidade Federal Fluminense. \nAtualmente é Professor Associado da Universidade Federal Fluminense na Escola de Engenharia em Niterói. Atua nas áreas de Ensino\, Pesquisa e Extensão\, na área de Engenharia de Produção\, Engenharia de Recursos Hídricos e do Meio Ambiente e Engenharia Agrícola e Ambiental com ênfase nos seguintes temas: Planejamento\, Projeto e Controle de Sistemas de Produção\, Logística e Transporte\, e Engenharia e Meio Ambiente.
URL:https://portalclubedeengenharia.org.br/evento/antonio-gusmao-lanca-livro-sobre-logistica-urbana-no-clube-de-engenharia-no-dia-9/
LOCATION:Clube de Engenharia\, Avenida Rio Branco\, 124\, Rio de Janeiro\, Rio de Janeiro\, 20040001
CATEGORIES:Interno,Eventos
ATTACH;FMTTYPE=image/jpeg:https://portalclubedeengenharia.org.br/wp-content/uploads/2024/12/antonio-gusmao-lanca-livro-sobre-logistica-urbana-no-clube-de-engenharia-no-dia-9-antonio-gusmao-lanca-livro-sobre-logistica-urbana-no-clube-de-engenharia-no-dia-9.jpg
END:VEVENT
END:VCALENDAR