BEGIN:VCALENDAR
VERSION:2.0
PRODID:-//Clube de Engenharia - ECPv6.15.16//NONSGML v1.0//EN
CALSCALE:GREGORIAN
METHOD:PUBLISH
X-WR-CALNAME:Clube de Engenharia
X-ORIGINAL-URL:https://portalclubedeengenharia.org.br
X-WR-CALDESC:Eventos para Clube de Engenharia
REFRESH-INTERVAL;VALUE=DURATION:PT1H
X-Robots-Tag:noindex
X-PUBLISHED-TTL:PT1H
BEGIN:VTIMEZONE
TZID:America/Sao_Paulo
BEGIN:STANDARD
TZOFFSETFROM:-0300
TZOFFSETTO:-0300
TZNAME:-03
DTSTART:20230101T000000
END:STANDARD
END:VTIMEZONE
BEGIN:VEVENT
DTSTART;TZID=America/Sao_Paulo:20241208T070000
DTEND;TZID=America/Sao_Paulo:20241208T170000
DTSTAMP:20260420T141046
CREATED:20241125T182506Z
LAST-MODIFIED:20241125T184855Z
UID:34038-1733641200-1733677200@portalclubedeengenharia.org.br
SUMMARY:Clube de Engenharia apoia 34ª Corrida e Caminhada dos Engenheiros e Arquitetos da SEAERJ
DESCRIPTION:O Clube de Engenharia apoia a realização da 34ª edição da Corrida e Caminhada dos Engenheiros e Arquitetos da SEAERJ. O tradicional evento acontecerá no domingo\, dia 8 de dezembro\, e será realizado no Boulevard Olímpico com um trajeto de 5 km. \nCriada no verão de 1981\, com um percurso inicial de 6 km\, a corrida se consolidou como um marco esportivo da Engenharia e Arquitetura. Em 2024\, o tema será uma homenagem aos 50 anos da Ponte Rio-Niterói. \nClique aqui para mais informações e inscrições! (https://corridaseaerj.com.br/)
URL:https://portalclubedeengenharia.org.br/evento/clube-de-engenharia-apoia-34a-corrida-e-caminhada-dos-engenheiros-e-arquitetos-da-seaerj/
LOCATION:Boulevard Olimpico
CATEGORIES:Externo,Eventos
ATTACH;FMTTYPE=image/jpeg:https://portalclubedeengenharia.org.br/wp-content/uploads/2024/11/9e2f5013-9da2-4254-bf42-04a043ee87bd-9e2f5013-9da2-4254-bf42-04a043ee87bd.jpeg
END:VEVENT
BEGIN:VEVENT
DTSTART;TZID=America/Sao_Paulo:20241209T173000
DTEND;TZID=America/Sao_Paulo:20241209T193000
DTSTAMP:20260420T141046
CREATED:20241204T204208Z
LAST-MODIFIED:20241204T204208Z
UID:34400-1733765400-1733772600@portalclubedeengenharia.org.br
SUMMARY:Antônio Gusmão lança livro sobre logística urbana no Clube de Engenharia no dia 9
DESCRIPTION:Autor : Antônio Carlos Sá de Gusmão\nDia: 9 de dezembro\, segunda-feira\nHora : 17h30min\nLocal : Clube de Engenharia – Avenida Rio Branco\, 124/20o andar \n  \nO livro “Diretrizes de Logística Urbana para as Cidades Brasileiras: Fundamentos e Proposições”\, do professor do Departamento de Engenharia Agrícola e Meio Ambiente (TER) da Universidade Federal Fluminense (UFF)\, o engenheiro eletricista Antônio Carlos Sá de Gusmão\, será lançado no Clube de Engenharia na próxima segunda-feira\, dia 9 de dezembro. O evento acontecerá no auditório do 20o andar\, às 17h30min. \nO livro\, que recebeu o selo de “Livro Finalista do Prêmio Jabuti Acadêmico”\, é resultado da tese de doutorado do professor Antônio Gusmão\, apresentada para obtenção do título de Doutor em Engenharia de Transportes no Programa de Engenharia de Transportes do Instituto Alberto Luiz Coimbra de Pós-Graduação e Pesquisa de Engenharia da Universidade Federal do Rio de Janeiro – COPPE/UFRJ. \nCom mais de 40 anos de experiência\, o autor se dedica à pesquisa e estudos em Logística Urbana (City Logistics). Foi professor colaborador no Laboratório de Sistemas Inteligentes de Transportes na COPPE/UFRJ\, no período de março de 2016 a março de 2021\, quando aperfeiçoou sua expertise no assunto. \nGusmão diz que o objetivo do livro foi contribuir com o setor\, por meio da proposição das diretrizes\, e preencher uma lacuna\, ainda existente\, de publicações específicas na área de Logística Urbana\, especialmente no Brasil\, no que concerne a diretrizes para a eficiência da distribuição de mercadorias nas cidades\, sejam elas\, de grande ou médio porte. \nSegundo a Editora Dialética\, responsável pela publicação do livro\, a pesquisa é relevante para a área de logística e oferece soluções concretas para os desafios enfrentados nos centros urbanos brasileiros\, pois aborda de forma clara e embasada as diretrizes de carga urbana\, considerando aspectos como sustentabilidade e eficiência. \nSobre a Obra\nOs impactos causados por meio do transporte rodoviário na distribuição de mercadorias sobre o sistema viário e de transportes em área urbana merecem uma análise mais apropriada. A concepção Logística Urbana\, que vem sendo empregada em diversas cidades ao redor do mundo com sucesso\, é um campo de conhecimento que tem como objetivo a otimização global das operações logísticas em áreas urbanas e que pode trazer benefícios relevantes na sua prática para as cidades brasileiras. \nNeste contexto\, em que as políticas públicas atuais praticadas no planejamento urbano ainda requerem diretrizes que possibilitem a eficiência da distribuição de mercadorias nas cidades\, o presente livro tem por objetivo contemplar um conjunto de diretrizes\, com base na pesquisa com profissionais da área de transportes\, e que contribuirão para o desenvolvimento da movimentação de carga na área urbana\, levando a um desenvolvimento sustentável das cidades. \nSobre o autor\nPossui graduação em Engenharia Elétrica Modalidade Eletrônica pela Universidade Gama Filho – UGF (1983)\, Extensão em Ciclo de Estudos de Políticas e Estratégia pela Associação dos Diplomados da Escola Superior de Guerra – ADESG/RJ (1987)\, Mestrado em Engenharia de Produção pela Universidade Federal Fluminense – UFF (1994) e Doutorado em Engenharia de Transportes pela Universidade Federal do Rio de Janeiro – UFRJ (2016). \nExerceu as funções de Coordenador do Curso de Graduação em Engenharia de Agronegócios\, de Coordenador de Estágios e de Vice Coordenador do Curso de Engenharia de Produção na Escola de Engenharia de Volta Redonda e de Vice Coordenador do Curso de Graduação em Engenharia de Recursos Hídricos e do Meio Ambiente da Universidade Federal Fluminense. \nAtualmente é Professor Associado da Universidade Federal Fluminense na Escola de Engenharia em Niterói. Atua nas áreas de Ensino\, Pesquisa e Extensão\, na área de Engenharia de Produção\, Engenharia de Recursos Hídricos e do Meio Ambiente e Engenharia Agrícola e Ambiental com ênfase nos seguintes temas: Planejamento\, Projeto e Controle de Sistemas de Produção\, Logística e Transporte\, e Engenharia e Meio Ambiente.
URL:https://portalclubedeengenharia.org.br/evento/antonio-gusmao-lanca-livro-sobre-logistica-urbana-no-clube-de-engenharia-no-dia-9/
LOCATION:Clube de Engenharia\, Avenida Rio Branco\, 124\, Rio de Janeiro\, Rio de Janeiro\, 20040001
CATEGORIES:Interno,Eventos
ATTACH;FMTTYPE=image/jpeg:https://portalclubedeengenharia.org.br/wp-content/uploads/2024/12/antonio-gusmao-lanca-livro-sobre-logistica-urbana-no-clube-de-engenharia-no-dia-9-antonio-gusmao-lanca-livro-sobre-logistica-urbana-no-clube-de-engenharia-no-dia-9.jpg
END:VEVENT
BEGIN:VEVENT
DTSTART;TZID=America/Sao_Paulo:20241212T093000
DTEND;TZID=America/Sao_Paulo:20241212T110000
DTSTAMP:20260420T141046
CREATED:20241205T181952Z
LAST-MODIFIED:20241205T182454Z
UID:34418-1733995800-1734001200@portalclubedeengenharia.org.br
SUMMARY:Almirante Othon recebe no próximo dia 12 a maior comenda da ABC
DESCRIPTION:No próximo dia 12 de dezembro\, às 9h30\, em cerimônia solene\, a Academia Brasileira de Ciências entregará ao Almirante Othon Luiz Pinheiro da Silva a sua maior comenda: a Medalha Henrique Morize\, que leva o nome do fundador da instituição. O almirante foi um dos idealizadores do submarino nuclear brasileiro e é reconhecido mundialmente pelos seus conhecimentos na área – motivo\, supõe-se\, de toda a trama em torno do seu nome. \nA homenagem chega 10 anos depois do início dos trabalhos da “Operação Lava Jato”\, cujos tentáculos alcançaram o almirante em plena atividade para viabilizar o submarino nuclear\, cuja função seria o patrulhamento da nossa costa\, após a descoberta do pré-sal\, que tanto incomodou os EUA. \nO Almirante Othon chegou a ser condenado a 43 anos de prisão\, dos quais cumpriu 601 dias. Porém\, em março de 2022\, o Tribunal Regional Federal da 2ª Região reduziu a pena para 4 anos\, 10 meses e 10 dias de prisão. Othon Luiz Pinheiro da Silva é ex-presidente da Eletronuclear e foi arrolado no processo conhecido como “Operação Radioatividade”. \nA operação\, ramificação da Lava Jato\, veio a público anunciar\, na ocasião\, que havia desvendado “um esquema de corrupção nas obras de construção da usina nuclear de Angra 3”. O almirante foi preso em junho de 2015 em consequência dessa trama. Após a decisão do TRF-2\, a pena de reclusão foi substituída por duas restritivas de direitos. O julgamento da 1ª Turma Especializada do TRF-2\, que reduziu sua pena\, foi concluído em 31 de março de 2022. Ele ainda luta na Justiça e aguarda o arquivamento. \n\n\n\n\nOthon foi condenado em primeira instância em agosto de 2016 – em pleno processo do golpe contra a presidente Dilma Rousseff –\, pelo (agora afastado pelo Conselho Nacional de Justiça) juiz federal Marcelo Bretas\, da 7ª Vara Federal Criminal do Rio\, que o acusava dos crimes de corrupção passiva\, lavagem de dinheiro\, embaraço às investigações\, evasão de divisas e organização criminosa. Foi a primeira sentença do braço fluminense da Operação Lava Jato. \nHoje\, o juiz Bretas está totalmente desmoralizado\, acusado de favorecimento ilícito ao negociar acordos de delação premiada junto com o Ministério Público Federal (MPF) para negociar sentenças\, combinar estratégias e orientar advogados. Enquanto isso\, o almirante segue sendo homenageado pelos serviços prestados ao país. \nHoje\, Othon leva uma vida reclusa\, principalmente depois da morte de Maria Célia\, sua companheira da vida inteira\, que se foi em janeiro deste ano. (Abaixo\, o comunicado feito em setembro ao Almirante Othon sobre sua escolha para receber a medalha). \nDenise Assis\nJornalista e mestra em Comunicação pela UFJF. Trabalhou nos principais veículos\, tais como: O Globo; Jornal do Brasil; Veja; Isto É e o Dia. Ex-assessora da presidência do BNDES\, pesquisadora da Comissão Nacional da Verdade e CEV-Rio\, autora de “Propaganda e cinema a serviço do golpe – 1962/1964” \, “Imaculada” e “Claudio Guerra: Matar e Queimar”. \n  \nFonte:  Brasil247
URL:https://portalclubedeengenharia.org.br/evento/almirante-othon-recebe-no-proximo-dia-12-a-maior-comenda-da-abc/
LOCATION:Academia Brasileira de Ciências
CATEGORIES:Externo,Eventos
ATTACH;FMTTYPE=image/jpeg:https://portalclubedeengenharia.org.br/wp-content/uploads/2024/12/othon-othon-othon-othon.jpg
END:VEVENT
BEGIN:VEVENT
DTSTART;TZID=America/Sao_Paulo:20241212T103000
DTEND;TZID=America/Sao_Paulo:20241212T170000
DTSTAMP:20260420T141046
CREATED:20241205T231559Z
LAST-MODIFIED:20241209T161428Z
UID:34431-1733999400-1734022800@portalclubedeengenharia.org.br
SUMMARY:Ex-presidente do Clube de Engenharia Márcio Girão recebe homenagens
DESCRIPTION:Data marca inauguração de fotografia na galeria de ex-presidentes e entrega de título pela Alerj \n  \nO ex-presidente do Clube de Engenharia Márcio Girão receberá duas homenagens na quinta-feira (12/12). Na data\, às 10h30\, será inaugurada sua fotografia na galeria de ex-presidentes da entidade. Também será ocasião de entrega do título de Cidadão do Estado do Rio de Janeiro\, concedido pela Alerj\, em cerimônia marcada para 11h\, também na sede do Clube. \nO título é uma honraria dada a personalidades nascidas fora do estado\, que tiveram uma trajetória que trouxe contribuição relevante para o povo fluminense. Foi concedida por iniciativa da deputada estadual Elika Takimoto (PT)\, através de Projeto de Lei\, em virtude de Girão ter nascido no Ceará e ter se radicado no Rio\, onde teve uma atuação destacada tanto na iniciativa privada quanto em órgãos do setor público quanto em entidades do terceiro setor. \nA cerimônia de entrega do título será presidida pela deputada Elika Takimoto e contará na mesa principal com o presidente do Clube de Engenharia\, Francis Bogossian; o ex-presidente Raymundo de Oliveira; o ex-ministro Roberto Amaral e o presidente do Sindicato dos Engenheiros (Senge)\, Olímpio Alves dos Santos. \nMárcio Girão\, desde 1977 estabelecido no Rio de Janeiro\, presidiu o Clube no triênio 2021-2024\, é engenheiro civil formado pela Universidade de São Paulo (USP/São Carlos) e professor adjunto de Resistência dos Materiais (Politécnica/USP). Na área empresarial atuou na Promon Engenharia\, Cobrapi\, BP Mineração\, Nuclep e como sócio da Lexikon e MGB Informática. Foi diretor de Inovação\, Planejamento\, Jurídico e Gestão de Riscos\, da FINEP; diretor executivo da Riosoft e presidente da Softex e da Federação Nacional de Informática (Fenainfo). Atualmente\, é conselheiro vitalício do Clube de Engenharia e presidente da Confederação Nacional da Tecnologia da Informação e Comunicação (Contic).
URL:https://portalclubedeengenharia.org.br/evento/ex-presidente-do-clube-de-engenharia-marcio-girao-recebe-homenagens/
LOCATION:Clube de Engenharia\, Avenida Rio Branco\, 124\, Rio de Janeiro\, Rio de Janeiro\, 20040001\, Brasil
CATEGORIES:Interno,Eventos
ATTACH;FMTTYPE=image/jpeg:https://portalclubedeengenharia.org.br/wp-content/uploads/2024/12/ex-presidente-do-clube-de-engenharia-marcio-girao-recebe-homenagens-ex-presidente-do-clube-de-engenharia-marcio-girao-recebe-homenagens.jpg
END:VEVENT
BEGIN:VEVENT
DTSTART;TZID=America/Sao_Paulo:20241212T120000
DTEND;TZID=America/Sao_Paulo:20241212T140000
DTSTAMP:20260420T141046
CREATED:20241112T182028Z
LAST-MODIFIED:20241205T231015Z
UID:33902-1734004800-1734012000@portalclubedeengenharia.org.br
SUMMARY:Almoço do Clube de Engenharia em homenagem aos 144 anos do CE  e aos aniversariantes de outubro\, novembro e dezembro
DESCRIPTION:📌 ALMOÇO DO CLUBE DE ENGENHARIA EM HOMENAGEM AOS 144 ANOS DO CE E AOS ANIVERSARIANTES DE OUTUBRO\, NOVEMBRO E DEZEMBRO \nQuinta-feira\, dia 12 de dezembro – 12:00 ÀS 14:00 \nMarque na agenda e venha participar conosco! \nADESÃO – R$ 120\,00 \nPague pelo pix através do link abaixo: \nhttps://linkpix.pro/Clube_De_Engenharia/Rio_De_Janeiro/33489469000195/12000/ALMOCOMENSAL/a764 \nEnvie seu comprovante para o WhatsApp: 99719-2360
URL:https://portalclubedeengenharia.org.br/evento/almoco-do-clube-de-engenharia-em-homenagem-aos-144-anos-do-ce-e-aos-aniversariantes-de-outubro-novembro-e-dezembro/
LOCATION:Clube de Engenharia\, Avenida Rio Branco\, 124\, Rio de Janeiro\, Rio de Janeiro\, 20040001
CATEGORIES:Eventos,Eventos do Clube
ATTACH;FMTTYPE=image/jpeg:https://portalclubedeengenharia.org.br/wp-content/uploads/2024/12/8ce354e9-f5eb-40e9-90de-335a3d16450e-8ce354e9-f5eb-40e9-90de-335a3d16450e.jpeg
END:VEVENT
BEGIN:VEVENT
DTSTART;TZID=America/Sao_Paulo:20241212T160000
DTEND;TZID=America/Sao_Paulo:20241212T180000
DTSTAMP:20260420T141046
CREATED:20241206T182917Z
LAST-MODIFIED:20241206T182917Z
UID:34449-1734019200-1734026400@portalclubedeengenharia.org.br
SUMMARY:I Prêmio Orlando Valverde do Mérito da Geografia Crea-RJ
DESCRIPTION:O Conselho Regional de Engenharia e Agronomia do Rio de Janeiro\, por meio de sua Câmara Especializada de Engenharia de Agrimensura – CEAgri e com apoio da Associação Profissional de\nGeógrafos no Estado do Rio de Janeiro – Aprogeo-RJ\, tem o prazer de convidar para a entrega do Prêmio Orlando Valverde do Mérito da Geografia Crea-RJ.\nA primeira edição da premiação homenageará a geógrafa Fanny Rachel Davidovich e o geógrafo Pedro Pinchas Geiger\, profissionais centenários\, que tiveram atuação fundamental na produção de conhecimento e no desenvolvimento da Geografia no Brasil. \n  \nProgramação:\nPEDRO GEIGER:\nUm Geógrafo Intérprete do Brasil\nProfa. Dra. Mônica Sampaio Machado\nTitular do Instituto de Geografia da UERJ \nFANNY DAVIDOVICH:\nUma Geógrafa Urbana por Excelência\nProf. Dr. Ciro Reis\nColaborador Programa de Pós-graduação em Geografia da UERJ \n  \nDATA: 12 de dezembro (quinta-feira) | às 16h\nLOCAL: Sede do Crea-RJ | R. Buenos Aires\, 40 – Centro
URL:https://portalclubedeengenharia.org.br/evento/i-premio-orlando-valverde-do-merito-da-geografia-crea-rj/
LOCATION:Crea-RJ\, Rua Buenos Aires\, 40\, Rio de Janeiro
CATEGORIES:Externo
ATTACH;FMTTYPE=image/jpeg:https://portalclubedeengenharia.org.br/wp-content/uploads/2024/12/674093f5668b9-lg-674093f5668b9-lg.jpg
END:VEVENT
BEGIN:VEVENT
DTSTART;TZID=America/Sao_Paulo:20241217T110000
DTEND;TZID=America/Sao_Paulo:20241217T123000
DTSTAMP:20260420T141046
CREATED:20241213T212441Z
LAST-MODIFIED:20241213T212443Z
UID:34518-1734433200-1734438600@portalclubedeengenharia.org.br
SUMMARY:Barata 100 anos - Convite
DESCRIPTION:A trajetória\, o acervo e o legado.\nSingela homenagem ao Prof. Fernando Emmanuel Barata\, por ocasião do centenário de nascimento. \n17 de dezembro\, Terça-feira \n11h às 12h30 \nOrador: Carlos Eduardo de Almeida Barata \nSalão Nobre da Decania do Centro de Tecnologia \nAv. Athos da Silveira Ramos\, 149\, Bloco A\, 2° andar \nCidade Universitária. \n 
URL:https://portalclubedeengenharia.org.br/evento/barata-100-anos-convite/
LOCATION:Salão Nobre da Decania do Centro de Tecnologia\, Av. Athos da Silveira Ramos\, 149\, Bloco A\, 2° andar Cidade Universitária.\, Rio de Janeiro
CATEGORIES:Externo,Eventos
ATTACH;FMTTYPE=image/jpeg:https://portalclubedeengenharia.org.br/wp-content/uploads/2024/12/dbed96ad-68bb-440e-9ab9-d6268831683f-dbed96ad-68bb-440e-9ab9-d6268831683f.jpeg
END:VEVENT
BEGIN:VEVENT
DTSTART;TZID=America/Sao_Paulo:20241218T110000
DTEND;TZID=America/Sao_Paulo:20241218T130000
DTSTAMP:20260420T141046
CREATED:20241212T224029Z
LAST-MODIFIED:20241212T233237Z
UID:34509-1734519600-1734526800@portalclubedeengenharia.org.br
SUMMARY:Agetransp entrega Prêmio Parceiros da Mobilidade no dia 18
DESCRIPTION:No próximo dia 18 de dezembro\, quarta-feira\, a (Agência Reguladora de Serviços Públicos Concedidos de Transportes Aquaviários\, Ferroviários e Metroviários e de Rodovias do Estado do Rio de Janeiro) vai anunciar os vencedores do Prêmio Parceiros da Mobilidade\, na Fecomércio. A solenidade acontecerá às 11h\, no auditório da Fecomércio\, na Zona Sul do Rio de Janeiro. O objetivo é reconhecer iniciativas e personalidades que se destacaram no setor da mobilidade urbana. Serão contempladas 10 iniciativas em diversas áreas de atuação. \nAs categorias são as seguintes:\n* Personalidade do Poder Executivo;\n* Personalidade do Poder Legislativo;\n* Personalidade do Poder Judiciário;\n* Destaque da Imprensa;\n* Inovação em Mobilidade Urbana;\n* Servidor da Agetransp;\n* Personalidade do Setor de Mobilidade Urbana;\n* Melhores Práticas em Mobilidade Urbana;\n* Trabalho Técnico-Científico em Mobilidade Urbana\n* Iniciativa da Sociedade Civil \nA comissão responsável pela escolha dos vencedores é composta por representantes da Agetransp\, Fecomércio\, Coppe UFRJ\, Crea/RJ e Setram/RJ. \nServiço\nDia: 18 de dezembro – quarta-feira\nHora: 11h\nLocal: Auditório Sede da Fecomércio – Rua Marquês de Abrantes\, 99/ Flamengo\nInscrições: https://www.mobilidaderj.com.br/
URL:https://portalclubedeengenharia.org.br/evento/agetransp-entrega-premio-parceiros-da-mobilidade-no-dia-18/
LOCATION:Auditório Sede da Fecomércio – Rua Marquês de Abrantes\, 99/ Flamengo
CATEGORIES:Externo,Eventos
ATTACH;FMTTYPE=image/jpeg:https://portalclubedeengenharia.org.br/wp-content/uploads/2024/12/captura-de-tela-2024-12-12-as-7.35.07pm-captura-de-tela-2024-12-12-as-7.35.07pm-captura-de-tela-2024-12-12-as-7.35.07pm-captura-de-tela-2024-12-12-as-7.35.07pm.jpg
END:VEVENT
END:VCALENDAR